BEGIN:VCALENDAR
VERSION:2.0
PRODID:-//Hunt&#039;s Photo Education - ECPv6.15.20//NONSGML v1.0//EN
CALSCALE:GREGORIAN
METHOD:PUBLISH
X-WR-CALNAME:Hunt&#039;s Photo Education
X-ORIGINAL-URL:https://edu.huntsphoto.com
X-WR-CALDESC:Events for Hunt&#039;s Photo Education
REFRESH-INTERVAL;VALUE=DURATION:PT1H
X-Robots-Tag:noindex
X-PUBLISHED-TTL:PT1H
BEGIN:VTIMEZONE
TZID:America/New_York
BEGIN:DAYLIGHT
TZOFFSETFROM:-0500
TZOFFSETTO:-0400
TZNAME:EDT
DTSTART:20250309T070000
END:DAYLIGHT
BEGIN:STANDARD
TZOFFSETFROM:-0400
TZOFFSETTO:-0500
TZNAME:EST
DTSTART:20251102T060000
END:STANDARD
BEGIN:DAYLIGHT
TZOFFSETFROM:-0500
TZOFFSETTO:-0400
TZNAME:EDT
DTSTART:20260308T070000
END:DAYLIGHT
BEGIN:STANDARD
TZOFFSETFROM:-0400
TZOFFSETTO:-0500
TZNAME:EST
DTSTART:20261101T060000
END:STANDARD
BEGIN:DAYLIGHT
TZOFFSETFROM:-0500
TZOFFSETTO:-0400
TZNAME:EDT
DTSTART:20270314T070000
END:DAYLIGHT
BEGIN:STANDARD
TZOFFSETFROM:-0400
TZOFFSETTO:-0500
TZNAME:EST
DTSTART:20271107T060000
END:STANDARD
END:VTIMEZONE
BEGIN:VEVENT
DTSTART;TZID=America/New_York:20260421T100000
DTEND;TZID=America/New_York:20260421T120000
DTSTAMP:20260421T024804
CREATED:20260407T213214Z
LAST-MODIFIED:20260407T213214Z
UID:10003882-1776765600-1776772800@edu.huntsphoto.com
SUMMARY:Hunt's Photo Education's Youth Photography Program- Waltham
DESCRIPTION:Registration for this event is taken by the Newton Rec Department at this Link!\nWednesdays March 11th\, 18th\, 25th\, April 1st\, 8th\, & 15th 4:30-5:45pm • Hunt’s Photo\, Waltham \nDo you have a budding photographer that you want to encourage? Join Hunt’s Photo Education for a 6-session photography program aimed at strengthening their interest\, improving their photography\, and getting them truly excited about being the artist\, the creator\, and the family photographer! \nOver the course of six sessions\, we will cover a wide range of topics\, from composition & perspective to depth of field & movement. In every session we’ll have a brief introduction to a topic followed by a fun practical exercise. Our goal is to get your photographers taking pictures as much as possible! At the end of each session\, we’ll give an assignment for the following week\, and at the start of the next session\, we’ll look back on the images to see what we liked about them. \nOur goal in this program is to have a lot of fun and not bog students down with too much technical stuff. However\, we will also scaffold instruction\, so if an attendee wants to know more about the technical aspects\, they still can! Please note: This course is geared towards students aged 11-16 years old. Our age requirement is general and a certain maturity level is helpful.  Younger students with interest and a level of responsibility are welcome to attend. \nStudents will be required to have some kind of camera. We generally recommend a DSLR or mirrorless camera\, but if you’re unsure\, feel free to contact us at classes@huntsphoto.com \nThis will be a fun program with experienced instruction. It is encouraged to take his class multiple times to build up different skill levels as time goes on.
URL:https://edu.huntsphoto.com/event/hunts-photo-educations-youth-photography-program-waltham-2/2026-04-21/
CATEGORIES:Hunt's Photo, Waltham,In-Person Classes,Instructor: Mike P.,Kids Classes,Youth Classes
ATTACH;FMTTYPE=image/jpeg:https://edu.huntsphoto.com/wp-content/uploads/YouthClass.jpg
END:VEVENT
BEGIN:VEVENT
DTSTART;TZID=America/New_York:20260421T180000
DTEND;TZID=America/New_York:20260421T200000
DTSTAMP:20260421T024804
CREATED:20260212T211501Z
LAST-MODIFIED:20260212T211501Z
UID:10003776-1776794400-1776801600@edu.huntsphoto.com
SUMMARY:Beginner Photography Series- Hunt’s Photo\, South Portland
DESCRIPTION:Do you have a new DSLR that you have no idea how to use?\nHave you had your camera for 6 months\, a year or more and want to take better pictures?\nAre you putting your camera away because you just don’t see the difference between your expensive camera and your smart phone? \nLearn to fully utilize your cameras potentials! Harness your creative power with photography!\nThis is the essential class for anyone looking to take that first giant step into the world of photography! Our patient and entertaining instructors will cover all the basics in this hands-on class\, including changing depth-of-field (controlling what’s in focus in the background)\, stopping or blurring the action in your scene\, and many other basic picture-taking techniques. \nOur two guarantees:\n You will learn a lot!\n You will have a fun time doing it! \nSome character references: \n\n“I was impressed with how well the class was run\, the amount of material covered so thoroughly and how all different camera types were incorporated without it causing issues. I was really impressed with the whole experience. Great instructors!!”\n“Everything was condensed and taught at a basic level which helped with the confusion I had before coming to class. Bottom Line: Great class for confused beginners.”\n“Everything about this class was excellent. The instructors were patient and took time to answer every question thoroughly and we were given ample time to try out the techniques we were being shown. All in all\, a wonderful experience.”\n“Very much liked the instructors- knowledgeable\, entertaining\, encouraging\, not judgmental. Loved the casual nature of the class and opportunity for one-on-one discussions. Excellent for me\, as a novice.”
URL:https://edu.huntsphoto.com/event/beginner-photography-series-hunts-photo-south-portland-apr-2026/
CATEGORIES:Beginner Photography Classes,Hunt's Photo, South Portland,In-Person Beginner Photography Classes,In-Person Classes,Instructor: Ray L.
ATTACH;FMTTYPE=image/jpeg:https://edu.huntsphoto.com/wp-content/uploads/RMLOldPort2.jpg
END:VEVENT
BEGIN:VEVENT
DTSTART;TZID=America/New_York:20260421T180000
DTEND;TZID=America/New_York:20260421T200000
DTSTAMP:20260421T024804
CREATED:20260305T190825Z
LAST-MODIFIED:20260310T195008Z
UID:10003816-1776794400-1776801600@edu.huntsphoto.com
SUMMARY:File Management and Importing in Adobe Lightroom Classic- Hunt's Photo\, Melrose
DESCRIPTION:Developed by photographers\, for photographers\, Adobe Lightroom provides amateur enthusiast and photographers with the necessary tools for basic image management and high-level image post-production.\nThis course focuses on how to organize your images for quick retrieval via keywords\, ratings\, and more\, as well as giving a description on how to consider organizing your photos on your computer. Specifically\, we will cover:\n•Brief Computer File Management\n•Importance of Keywords\n•Attributes– flagging\, rating\, color coding\n•Searching metadata to find images\n•And more!\nLightroom is an extremely robust and important manager of files\, and knowing how to utilize it is paramount to being able to find and edit your images! \nThis course is an excellent lead in to our Editing in Adobe Lightroom Classic classes.\n \n \nAn important note about this course! There are now a few different versions of Adobe Lightroom right now.This course is specifically on Adobe Lightroom Classic. The other version of Lightroom\, commonly known as “Adobe Lightroom CC” (yes\, we understand you may be confused by this) is a more mobile and cloud-based program. The look and feel of the program is completely different– This course is specifically on Adobe Lightroom Classic. (See graphic on the right.) If you are unsure\, feel free to email us at classes@huntsphoto.com. Important: If you are taking this course\, make sure to download/update the program in advance\, as you will not be able to download the program at the store. Older versions\, such as Lightroom 5 or 6\, are also acceptable\, though not all functions will be available. \n \nCurious which Adobe plan to get? We recommend the 20GB Photography Plan\, detailed in the screenshot on the left. You can find it here!
URL:https://edu.huntsphoto.com/event/file-management-in-adobe-lightroom-classic-hunts-photo-melrose-apr-2026/
CATEGORIES:Editing & Printing Classes,Hunt's Photo, Melrose,In-Person Classes,In-Person Editing & Printing Classes,In-Person Lightroom Classes,Instructor: Rebecca L.,Lightroom,Lightroom File Management,Slider
ATTACH;FMTTYPE=image/jpeg:https://edu.huntsphoto.com/wp-content/uploads/Lightroom-1357-91.jpg
END:VEVENT
BEGIN:VEVENT
DTSTART;TZID=America/New_York:20260421T190000
DTEND;TZID=America/New_York:20260421T203000
DTSTAMP:20260421T024804
CREATED:20260303T181357Z
LAST-MODIFIED:20260303T181407Z
UID:10003797-1776798000-1776803400@edu.huntsphoto.com
SUMMARY:Online: Multi-Session Series- Working with Landscape Photography
DESCRIPTION:Join Hunt’s Photo Education for our Multi-Session Series. In our Multi-Session Series\, we will meet over the course of a number of weeks\, generally at the same time each week. During that time\, we will discuss a specific element of a topic and end the session by giving a photographic assignment. That assignment will be due for completion before the next class meeting\, and we will review those images at the start of the next session. If for some reason you cannot attend one of the sessions\, don’t worry! They will be recorded and you will be able to watch them at your leisure!\nOur Multi-Session Series is designed to “keep the conversation going” by engaging with our attendees in a more personal way. In each of these classes\, we will have 10-15 attendees and provide direct feedback on images. We encourage photographers of all skill levels to consider these classes\, as they will build upon your experience and provide an excellent chance to work on your imagery!\nLandscape Photography\nLandscape photography is one of the most easily accessible genres of photography and is enjoyed by many. What does it take to create a landscape image that stands out? Join Hunt’s Photo Education as we go beyond “F8 and be there” and dive deep into the technical\, artistic\, and practical aspects of landscape photography.\nIn week one\, we’ll cover what it takes to plan and the settings necessary for your best shots. We’ll also talk about the gear all landscape photographers should have in their bags and what to do when the weather just won’t cooperate. In week two\, we’ll edit landscape images from start to finish using Adobe Lightroom Classic. By week three\, we’ll discuss composition\, dynamic range\, depth of field\, and focus. We’ll also discuss when to shoot in color and when to shoot in black and white. In our last week\, we’ll cover shooting and editing HDR images and panorama images in Adobe Lightroom Classic. We’ll also cover shooting landscapes at night as well as astrolandscapes. Each week\, Emily will give an assignment to hone your new skills and each student will receive individualized critiques. Emily is also available to answer any questions along the way.\nJoin us for this fun and unique multi-session series that will help you develop your skills with landscapes!\nRegistering and what is needed\nAfter you register for this class\, you will receive a confirmation email that will include information about how to access the online class\, including an online ID code that you will need to get into the class. Make sure to save this information. We will also send a reminder email about 24 hours prior to the class time with that same information.\nLayout of the class\nThe class will begin promptly at the time listed. If for some reason you cannot attend one of the sessions\, don’t worry! They will be recorded and you will be able to watch them at your leisure! During each class\, you are welcome to type in questions in the Question box if you have specific questions as they are asked. We will do our best to answer those questions\, but if not\, feel free to ask them at the end.\nYou Are Being Recorded (And Other Note Related Items)\nWe will be recording this class! The video will be available for download about 24-hours after the class for all attendees\, so don?t worry about taking unending notes. We will send this link attendees to download and rewatch at any time. In addition to this\, we will generally send out a PDF of the presentation (when applicable) and handouts on the topic. If handouts and PDFs are included\, we will send it out with the link for the video.\nNo online classes should be shared and cannot be shared in a public environment\, including with camera clubs\nThe online content is the copyright of Hunt’s Photo Education and/or the Instructor. Please support our education team and instructors by not sharing this material! We appreciate your support\, and it’s thanks to that support that we are able to continue producing content!
URL:https://edu.huntsphoto.com/event/online-multi-session-series-working-with-landscape-photography-apr-2026/
CATEGORIES:Beyond the Basics Classes,Instructor: Emily H.,Online Courses
ATTACH;FMTTYPE=image/jpeg:https://edu.huntsphoto.com/wp-content/uploads/@hojphoto_landscape-6913.jpg
END:VEVENT
END:VCALENDAR