BEGIN:VCALENDAR
VERSION:2.0
PRODID:-//Hunt&#039;s Photo Education - ECPv6.15.20//NONSGML v1.0//EN
CALSCALE:GREGORIAN
METHOD:PUBLISH
X-WR-CALNAME:Hunt&#039;s Photo Education
X-ORIGINAL-URL:https://edu.huntsphoto.com
X-WR-CALDESC:Events for Hunt&#039;s Photo Education
REFRESH-INTERVAL;VALUE=DURATION:PT1H
X-Robots-Tag:noindex
X-PUBLISHED-TTL:PT1H
BEGIN:VTIMEZONE
TZID:America/New_York
BEGIN:DAYLIGHT
TZOFFSETFROM:-0500
TZOFFSETTO:-0400
TZNAME:EDT
DTSTART:20250309T070000
END:DAYLIGHT
BEGIN:STANDARD
TZOFFSETFROM:-0400
TZOFFSETTO:-0500
TZNAME:EST
DTSTART:20251102T060000
END:STANDARD
BEGIN:DAYLIGHT
TZOFFSETFROM:-0500
TZOFFSETTO:-0400
TZNAME:EDT
DTSTART:20260308T070000
END:DAYLIGHT
BEGIN:STANDARD
TZOFFSETFROM:-0400
TZOFFSETTO:-0500
TZNAME:EST
DTSTART:20261101T060000
END:STANDARD
BEGIN:DAYLIGHT
TZOFFSETFROM:-0500
TZOFFSETTO:-0400
TZNAME:EDT
DTSTART:20270314T070000
END:DAYLIGHT
BEGIN:STANDARD
TZOFFSETFROM:-0400
TZOFFSETTO:-0500
TZNAME:EST
DTSTART:20271107T060000
END:STANDARD
END:VTIMEZONE
BEGIN:VEVENT
DTSTART;TZID=America/New_York:20260423T100000
DTEND;TZID=America/New_York:20260423T120000
DTSTAMP:20260423T064234
CREATED:20260407T213214Z
LAST-MODIFIED:20260407T213214Z
UID:10003884-1776938400-1776945600@edu.huntsphoto.com
SUMMARY:Hunt's Photo Education's Youth Photography Program- Waltham
DESCRIPTION:Registration for this event is taken by the Newton Rec Department at this Link!\nWednesdays March 11th\, 18th\, 25th\, April 1st\, 8th\, & 15th 4:30-5:45pm • Hunt’s Photo\, Waltham \nDo you have a budding photographer that you want to encourage? Join Hunt’s Photo Education for a 6-session photography program aimed at strengthening their interest\, improving their photography\, and getting them truly excited about being the artist\, the creator\, and the family photographer! \nOver the course of six sessions\, we will cover a wide range of topics\, from composition & perspective to depth of field & movement. In every session we’ll have a brief introduction to a topic followed by a fun practical exercise. Our goal is to get your photographers taking pictures as much as possible! At the end of each session\, we’ll give an assignment for the following week\, and at the start of the next session\, we’ll look back on the images to see what we liked about them. \nOur goal in this program is to have a lot of fun and not bog students down with too much technical stuff. However\, we will also scaffold instruction\, so if an attendee wants to know more about the technical aspects\, they still can! Please note: This course is geared towards students aged 11-16 years old. Our age requirement is general and a certain maturity level is helpful.  Younger students with interest and a level of responsibility are welcome to attend. \nStudents will be required to have some kind of camera. We generally recommend a DSLR or mirrorless camera\, but if you’re unsure\, feel free to contact us at classes@huntsphoto.com \nThis will be a fun program with experienced instruction. It is encouraged to take his class multiple times to build up different skill levels as time goes on.
URL:https://edu.huntsphoto.com/event/hunts-photo-educations-youth-photography-program-waltham-2/2026-04-23/
CATEGORIES:Hunt's Photo, Waltham,In-Person Classes,Instructor: Mike P.,Kids Classes,Youth Classes
ATTACH;FMTTYPE=image/jpeg:https://edu.huntsphoto.com/wp-content/uploads/YouthClass.jpg
END:VEVENT
BEGIN:VEVENT
DTSTART;TZID=America/New_York:20260423T190000
DTEND;TZID=America/New_York:20260423T201500
DTSTAMP:20260423T064234
CREATED:20260303T181031Z
LAST-MODIFIED:20260330T194525Z
UID:10003796-1776970800-1776975300@edu.huntsphoto.com
SUMMARY:Online: Digital Photography Basics 2- Focus\, Lenses\, Depth of Field\, RAW and More
DESCRIPTION:In a continuation of our Digital Photography Basics 1 class\, this course continues by discussing more very important elements\, including how to get better results with focusing\, depth of field\, photographing in RAW vs JPEG and more! This course offers an excellent opportunity to continue learning about the many elements of Digital Photography! \nJoin us as we continue learning about Digital Photography! \nRegistering and what is needed\nAfter you register for this class\, you will receive a confirmation email that will include information about how to access the online class\, including an online ID code that you will need to get into the class. Make sure to save this information. We will also send a reminder email about 48 hours prior to the class time with that same information. \nLayout of the class\nThe class will begin promptly at the time listed. The majority of the class–roughly 1 hour– will be a presentation on the topic\, followed by a short Q&A. During the class\, you are welcome to type in questions in the Chat box if you have specific questions as they are asked. We will do our best to answer those questions\, but if not\, feel free to ask them at the end. \n“You Are Being Recorded” (And Other Note Related Items)\nWe will be recording this class! The video will be available for download about 24-hours after the class for all attendees\, so don’t worry about taking unending notes. We will send this link attendees to download and rewatch at any time. In addition to this\, we will generally send out a PDF of the presentation (when applicable) and handouts on the topic. If handouts and PDFs are included\, we will send it out with the link for the video. \nCan’t attend the class? \nIf you can’t attend the class but still want to download the video\, no problem: Just sign up for the class! You don’t need to attend and we will send the video and PDF link the next day! \nWant to get this class after it’s been run?\nIf you want to purchase this or any other of the classes we have done\, you can certainly do so. Just send us an email at classes@huntsphoto.com and we can send you the invoice. (We prefer having folks in our classes\, but this option is available as well if you want to see it!) \nNo online classes should be shared and cannot be shared in a public environment\, including with camera clubs\nThe online content is the copyright of Hunt’s Photo Education and/or the Instructor. Please support our education team and instructors by not sharing this material! We appreciate your support\, and it’s thanks to that support that we are able to continue producing content!
URL:https://edu.huntsphoto.com/event/online-digital-photography-basics-2-focus-lenses-depth-of-field-raw-and-more-apr-2026/
CATEGORIES:Beginner Photography Classes,Digital Photo Basics,Instructor: Emily H.,Online Courses
ATTACH;FMTTYPE=image/jpeg:https://edu.huntsphoto.com/wp-content/uploads/@hojphoto_longfellow-1243-40.jpg
END:VEVENT
END:VCALENDAR