BEGIN:VCALENDAR
VERSION:2.0
PRODID:-//Hunt&#039;s Photo Education - ECPv6.15.20//NONSGML v1.0//EN
CALSCALE:GREGORIAN
METHOD:PUBLISH
X-WR-CALNAME:Hunt&#039;s Photo Education
X-ORIGINAL-URL:https://edu.huntsphoto.com
X-WR-CALDESC:Events for Hunt&#039;s Photo Education
REFRESH-INTERVAL;VALUE=DURATION:PT1H
X-Robots-Tag:noindex
X-PUBLISHED-TTL:PT1H
BEGIN:VTIMEZONE
TZID:America/New_York
BEGIN:DAYLIGHT
TZOFFSETFROM:-0500
TZOFFSETTO:-0400
TZNAME:EDT
DTSTART:20220313T070000
END:DAYLIGHT
BEGIN:STANDARD
TZOFFSETFROM:-0400
TZOFFSETTO:-0500
TZNAME:EST
DTSTART:20221106T060000
END:STANDARD
BEGIN:DAYLIGHT
TZOFFSETFROM:-0500
TZOFFSETTO:-0400
TZNAME:EDT
DTSTART:20230312T070000
END:DAYLIGHT
BEGIN:STANDARD
TZOFFSETFROM:-0400
TZOFFSETTO:-0500
TZNAME:EST
DTSTART:20231105T060000
END:STANDARD
BEGIN:DAYLIGHT
TZOFFSETFROM:-0500
TZOFFSETTO:-0400
TZNAME:EDT
DTSTART:20240310T070000
END:DAYLIGHT
BEGIN:STANDARD
TZOFFSETFROM:-0400
TZOFFSETTO:-0500
TZNAME:EST
DTSTART:20241103T060000
END:STANDARD
BEGIN:DAYLIGHT
TZOFFSETFROM:-0500
TZOFFSETTO:-0400
TZNAME:EDT
DTSTART:20250309T070000
END:DAYLIGHT
BEGIN:STANDARD
TZOFFSETFROM:-0400
TZOFFSETTO:-0500
TZNAME:EST
DTSTART:20251102T060000
END:STANDARD
BEGIN:DAYLIGHT
TZOFFSETFROM:-0500
TZOFFSETTO:-0400
TZNAME:EDT
DTSTART:20260308T070000
END:DAYLIGHT
BEGIN:STANDARD
TZOFFSETFROM:-0400
TZOFFSETTO:-0500
TZNAME:EST
DTSTART:20261101T060000
END:STANDARD
END:VTIMEZONE
BEGIN:VEVENT
DTSTART;TZID=America/New_York:20251115T100000
DTEND;TZID=America/New_York:20251115T150000
DTSTAMP:20260425T095644
CREATED:20251006T194552Z
LAST-MODIFIED:20251014T171307Z
UID:10003496-1763200800-1763218800@edu.huntsphoto.com
SUMMARY:Holiday Macro & Tabletop Photography Workshop- Hunt's Photo Melrose
DESCRIPTION:Hunt’s Photo Education is proud to present our annual Holiday Macro & Tabletop Workshops. These workshops are designed to help you create\, compose\, and photograph stellar mini-holiday masterpieces. Photographers that participate in these workshops will also have one of their holiday photographs printed 13×19″ and hung in the Hunt’s Photo Gallery in Melrose for the month of December. (More details below.)\nWe will begin each workshop with a demo that will discuss camera settings\, lighting\, composition\, subject placement\, and more. You will then create and photograph your compositions for the remainder of the time during the workshop\, with instructor assistance available. Our ultimate goal in this workshop is at least one “final piece” that can be printed on a large scale.\nAt the end of the workshop\, attendees will work edit and process their images individually and submit 1-2 images to the instructors for review\, then print the images as 13×19″. These photographs will be hung in our Hunt’s Photo Gallery in Melrose for the month of December\, after which you will be given the print.\nThis will be a fun and challenging workshop that will walk you through the full process of creating stellar holiday macro imagery. We will stay with you during the editing process\, and even guide you in understanding the best processing for a final print. Join us for one of our favorite workshops of the year!
URL:https://edu.huntsphoto.com/event/holiday-macro-tabletop-photography-workshop-hunts-photo-melrose-nov-2025/
CATEGORIES:Featured,Holiday Macro!,Hunt's Photo Walks,Hunt's Photo Workshops,Hunt's Photo, Melrose,Instructor: Emily H.,Instructor: Paul N.
ATTACH;FMTTYPE=image/jpeg:https://edu.huntsphoto.com/wp-content/uploads/Holidaymacro.jpg
END:VEVENT
BEGIN:VEVENT
DTSTART;TZID=America/New_York:20241130T100000
DTEND;TZID=America/New_York:20241130T150000
DTSTAMP:20260425T095644
CREATED:20241010T161806Z
LAST-MODIFIED:20241202T173245Z
UID:10002788-1732960800-1732978800@edu.huntsphoto.com
SUMMARY:Holiday Macro & Tabletop Photography Workshop- Hunt's Photo Waltham
DESCRIPTION:Hunt’s Photo Education is proud to present our annual Holiday Macro & Tabletop Workshops. These workshops are designed to help you create\, compose\, and photograph stellar mini-holiday masterpieces. Photographers that participate in these workshops will also have one of their holiday photographs printed 13×19″ and hung in the Hunt’s Photo Gallery in Melrose for the month of December. (More details below.)\nWe will begin each workshop with a demo that will discuss camera settings\, lighting\, composition\, subject placement\, and more. You will then create and photograph your compositions for the remainder of the time during the workshop\, with instructor assistance available. Our ultimate goal in this workshop is at least one “final piece” that can be printed on a large scale.\nAt the end of the workshop\, attendees will work edit and process their images individually and submit 1-2 images to the instructors for review\, then print the images as 13×19″. These photographs will be hung in our Hunt’s Photo Gallery in Melrose for the month of December\, after which you will be given the print.\nThis will be a fun and challenging workshop that will walk you through the full process of creating stellar holiday macro imagery. We will stay with you during the editing process\, and even guide you in understanding the best processing for a final print. Join us for one of our favorite workshops of the year!
URL:https://edu.huntsphoto.com/event/holiday-macro-tabletop-photography-workshop-hunts-photo-waltham-nov-30-2024/
CATEGORIES:Featured,Holiday Macro!,Hunt's Photo Walks,Hunt's Photo Workshops,Hunt's Photo, Waltham,Instructor: Emily H.,Instructor: Paul N.
ATTACH;FMTTYPE=image/jpeg:https://edu.huntsphoto.com/wp-content/uploads/HolidayFood-0035-3.jpg
END:VEVENT
BEGIN:VEVENT
DTSTART;TZID=America/New_York:20241129T100000
DTEND;TZID=America/New_York:20241129T150000
DTSTAMP:20260425T095644
CREATED:20241010T161349Z
LAST-MODIFIED:20241202T173251Z
UID:10002787-1732874400-1732892400@edu.huntsphoto.com
SUMMARY:Holiday Macro & Tabletop Photography Workshop- Hunt's Photo Waltham
DESCRIPTION:Hunt’s Photo Education is proud to present our annual Holiday Macro & Tabletop Workshops. These workshops are designed to help you create\, compose\, and photograph stellar mini-holiday masterpieces. Photographers that participate in these workshops will also have one of their holiday photographs printed 13×19″ and hung in the Hunt’s Photo Gallery in Melrose for the month of December. (More details below.)\nWe will begin each workshop with a demo that will discuss camera settings\, lighting\, composition\, subject placement\, and more. You will then create and photograph your compositions for the remainder of the time during the workshop\, with instructor assistance available. Our ultimate goal in this workshop is at least one “final piece” that can be printed on a large scale.\nAt the end of the workshop\, attendees will work edit and process their images individually and submit 1-2 images to the instructors for review\, then print the images as 13×19″. These photographs will be hung in our Hunt’s Photo Gallery in Melrose for the month of December\, after which you will be given the print.\nThis will be a fun and challenging workshop that will walk you through the full process of creating stellar holiday macro imagery. We will stay with you during the editing process\, and even guide you in understanding the best processing for a final print. Join us for one of our favorite workshops of the year!
URL:https://edu.huntsphoto.com/event/holiday-macro-tabletop-photography-workshop-hunts-photo-waltham-nov-29-2024/
CATEGORIES:Featured,Holiday Macro!,Hunt's Photo Walks,Hunt's Photo Workshops,Hunt's Photo, Waltham,Instructor: Emily H.,Instructor: Paul N.
ATTACH;FMTTYPE=image/jpeg:https://edu.huntsphoto.com/wp-content/uploads/@hojphoto_bakedgoodness-8182-1.jpg
END:VEVENT
BEGIN:VEVENT
DTSTART;TZID=America/New_York:20231217T100000
DTEND;TZID=America/New_York:20231217T150000
DTSTAMP:20260425T095644
CREATED:20231201T203515Z
LAST-MODIFIED:20231201T203515Z
UID:10002128-1702807200-1702825200@edu.huntsphoto.com
SUMMARY:Holiday Macro & Tabletop Photography Workshop (Manchester)
DESCRIPTION:Hunt’s Photo Education is proud to present our annual Holiday Macro & Tabletop Workshops. These workshops are designed to help you create\, compose\, and photograph stellar mini-holiday masterpieces.\nWe will begin the workshop with a demo that will discuss camera settings\, lighting\, composition\, subject placement\, and more. You will then create and photograph your compositions for the remainder of the time during the workshop\, with instructor assistance available. Our ultimate goal in this workshop is at least one “final piece” that can be printed on a large scale.\nAt the end of the workshop\, attendees will work edit and process their images individually and submit 1-2 images to the instructors for review. After the workshop\, we will print the images 13×19″ and you will be able to keep the print.\nThis will be a fun and challenging workshop that will walk you through the full process of creating stellar holiday macro imagery. We will stay with you during the editing process\, and even guide you in understanding the best processing for a final print. Join us for one of our favorite workshops of the year!
URL:https://edu.huntsphoto.com/event/holiday-macro-tabletop-photography-workshop-manchester-2/
CATEGORIES:Holiday Macro!,Hunt's Photo Walks,Hunt's Photo Workshops,Hunt's Photo, Manchester,Instructor: Emily H.
ATTACH;FMTTYPE=image/jpeg:https://edu.huntsphoto.com/wp-content/uploads/@hojphoto_macro-5617-3.jpg
END:VEVENT
BEGIN:VEVENT
DTSTART;TZID=America/New_York:20231125T100000
DTEND;TZID=America/New_York:20231125T150000
DTSTAMP:20260425T095644
CREATED:20231201T203442Z
LAST-MODIFIED:20231201T203442Z
UID:10002078-1700906400-1700924400@edu.huntsphoto.com
SUMMARY:Holiday Macro & Tabletop Photography Workshop (Melrose)
DESCRIPTION:Hunt’s Photo Education is proud to present our annual Holiday Macro & Tabletop Workshops. These workshops are designed to help you create\, compose\, and photograph stellar mini-holiday masterpieces. Photographers that participate in these workshops will also have one of their holiday photographs printed 13×19″ and hung in the Hunt’s Photo Gallery in Melrose for the month of December. (More details below.)\nWe will begin each workshop with a demo that will discuss camera settings\, lighting\, composition\, subject placement\, and more. You will then create and photograph your compositions for the remainder of the time during the workshop\, with instructor assistance available. Our ultimate goal in this workshop is at least one “final piece” that can be printed on a large scale.\nAt the end of the workshop\, attendees will work edit and process their images individually and submit 1-2 images to the instructors for review\, then print the images as 13×19″. These photographs will be hung in our Hunt’s Photo Gallery in Melrose for the month of December\, after which you will be given the print.\nThis will be a fun and challenging workshop that will walk you through the full process of creating stellar holiday macro imagery. We will stay with you during the editing process\, and even guide you in understanding the best processing for a final print. Join us for one of our favorite workshops of the year!
URL:https://edu.huntsphoto.com/event/holiday-macro-tabletop-photography-workshop-melrose-4/
CATEGORIES:Holiday Macro!,Hunt's Photo Walks,Hunt's Photo Workshops,Hunt's Photo, Melrose,Instructor: Emily H.,Instructor: Paul N.
ATTACH;FMTTYPE=image/jpeg:https://edu.huntsphoto.com/wp-content/uploads/@hojphoto_macro-3833-3.jpg
END:VEVENT
BEGIN:VEVENT
DTSTART;TZID=America/New_York:20231124T100000
DTEND;TZID=America/New_York:20231124T150000
DTSTAMP:20260425T095644
CREATED:20231201T203442Z
LAST-MODIFIED:20231201T203442Z
UID:10002077-1700820000-1700838000@edu.huntsphoto.com
SUMMARY:Holiday Macro & Tabletop Photography Workshop (Melrose)
DESCRIPTION:Hunt’s Photo Education is proud to present our annual Holiday Macro & Tabletop Workshops. These workshops are designed to help you create\, compose\, and photograph stellar mini-holiday masterpieces. Photographers that participate in these workshops will also have one of their holiday photographs printed 13×19″ and hung in the Hunt’s Photo Gallery in Melrose for the month of December. (More details below.)\nWe will begin each workshop with a demo that will discuss camera settings\, lighting\, composition\, subject placement\, and more. You will then create and photograph your compositions for the remainder of the time during the workshop\, with instructor assistance available. Our ultimate goal in this workshop is at least one “final piece” that can be printed on a large scale.\nAt the end of the workshop\, attendees will work edit and process their images individually and submit 1-2 images to the instructors for review\, then print the images as 13×19″. These photographs will be hung in our Hunt’s Photo Gallery in Melrose for the month of December\, after which you will be given the print.\nThis will be a fun and challenging workshop that will walk you through the full process of creating stellar holiday macro imagery. We will stay with you during the editing process\, and even guide you in understanding the best processing for a final print. Join us for one of our favorite workshops of the year!
URL:https://edu.huntsphoto.com/event/holiday-macro-tabletop-photography-workshop-melrose-3/
CATEGORIES:Featured,Holiday Macro!,Hunt's Photo Walks,Hunt's Photo Workshops,Hunt's Photo, Melrose,Instructor: Emily H.,Instructor: Paul N.
ATTACH;FMTTYPE=image/jpeg:https://edu.huntsphoto.com/wp-content/uploads/@hojphoto_holidaystilllife-5.jpg
END:VEVENT
END:VCALENDAR