BEGIN:VCALENDAR
VERSION:2.0
PRODID:-//Hunt&#039;s Photo Education - ECPv6.15.20//NONSGML v1.0//EN
CALSCALE:GREGORIAN
METHOD:PUBLISH
X-WR-CALNAME:Hunt&#039;s Photo Education
X-ORIGINAL-URL:https://edu.huntsphoto.com
X-WR-CALDESC:Events for Hunt&#039;s Photo Education
REFRESH-INTERVAL;VALUE=DURATION:PT1H
X-Robots-Tag:noindex
X-PUBLISHED-TTL:PT1H
BEGIN:VTIMEZONE
TZID:America/New_York
BEGIN:DAYLIGHT
TZOFFSETFROM:-0500
TZOFFSETTO:-0400
TZNAME:EDT
DTSTART:20250309T070000
END:DAYLIGHT
BEGIN:STANDARD
TZOFFSETFROM:-0400
TZOFFSETTO:-0500
TZNAME:EST
DTSTART:20251102T060000
END:STANDARD
BEGIN:DAYLIGHT
TZOFFSETFROM:-0500
TZOFFSETTO:-0400
TZNAME:EDT
DTSTART:20260308T070000
END:DAYLIGHT
BEGIN:STANDARD
TZOFFSETFROM:-0400
TZOFFSETTO:-0500
TZNAME:EST
DTSTART:20261101T060000
END:STANDARD
BEGIN:DAYLIGHT
TZOFFSETFROM:-0500
TZOFFSETTO:-0400
TZNAME:EDT
DTSTART:20270314T070000
END:DAYLIGHT
BEGIN:STANDARD
TZOFFSETFROM:-0400
TZOFFSETTO:-0500
TZNAME:EST
DTSTART:20271107T060000
END:STANDARD
END:VTIMEZONE
BEGIN:VEVENT
DTSTART;TZID=America/New_York:20260307T090000
DTEND;TZID=America/New_York:20260307T130000
DTSTAMP:20260421T054758
CREATED:20260120T194236Z
LAST-MODIFIED:20260307T185049Z
UID:10003726-1772874000-1772888400@edu.huntsphoto.com
SUMMARY:Beginner Photography Series- Hunt’s Photo\, Manchester
DESCRIPTION:Do you have a new DSLR that you have no idea how to use?\nHave you had your camera for 6 months\, a year or more and want to take better pictures?\nAre you putting your camera away because you just don’t see the difference between your expensive camera and your smart phone? \nLearn to fully utilize your cameras potentials! Harness your creative power with photography!\nThis is the essential class for anyone looking to take that first giant step into the world of photography! Our patient and entertaining instructors will cover all the basics in this hands-on class\, including changing depth-of-field (controlling what’s in focus in the background)\, stopping or blurring the action in your scene\, and many other basic picture-taking techniques. \nOur two guarantees:\n You will learn a lot!\n You will have a fun time doing it! \nSome character references: \n\n“I was impressed with how well the class was run\, the amount of material covered so thoroughly and how all different camera types were incorporated without it causing issues. I was really impressed with the whole experience. Great instructors!!”\n“Everything was condensed and taught at a basic level which helped with the confusion I had before coming to class. Bottom Line: Great class for confused beginners.”\n“Everything about this class was excellent. The instructors were patient and took time to answer every question thoroughly and we were given ample time to try out the techniques we were being shown. All in all\, a wonderful experience.”\n“Very much liked the instructors- knowledgeable\, entertaining\, encouraging\, not judgmental. Loved the casual nature of the class and opportunity for one-on-one discussions. Excellent for me\, as a novice.”
URL:https://edu.huntsphoto.com/event/beginner-photography-series-hunts-photo-manchester-mar-2026/
CATEGORIES:Beginner Photography Classes,Hunt's Photo, Manchester,In-Person Classes,Instructor: Emily H.
ATTACH;FMTTYPE=image/jpeg:https://edu.huntsphoto.com/wp-content/uploads/@hojphoto_flowermacroLR-2818.jpg
END:VEVENT
BEGIN:VEVENT
DTSTART;TZID=America/New_York:20260324T180000
DTEND;TZID=America/New_York:20260324T203000
DTSTAMP:20260421T054758
CREATED:20260303T064130Z
LAST-MODIFIED:20260303T064206Z
UID:10003788-1774375200-1774384200@edu.huntsphoto.com
SUMMARY:Intro to Film- Hunt’s Photo\, Manchester
DESCRIPTION:Film Photography is making a comeback! Come learn what makes film so unique and beautiful and learn how to best use your film camera with instructor Mike Pacheco!\nThis is the essential class for anyone looking to either get into film photography or relearn the basics that they once knew. Discussion points in the class will include: \n\nThe basic settings on film cameras\, including exposure\, aperture and shutter speed\nProperly loading\, unloading\, and storing film\nCurrent films (“film stocks”) and what unique characteristics they hold\nWhat to look for and how to achieve amazing results!\nHands-on shooting demos!\n\nAttendees should all have a working film camera\, along with a working battery. (Hunt’s Photo sells most film camera batteries.) If you are unsure whether your camera is fully functional\, we strongly recommend you contact us at classes@huntsphoto.com and schedule a time that we can check it out! \nWant to learn more about film? Check out some of our Developing Film classes!  (Scanning is included in the cost of that class!) \nGet into the world of film and see what the fuss is all about!
URL:https://edu.huntsphoto.com/event/intro-to-film-hunts-photo-manchester-mar-2026/
CATEGORIES:Analog Film and Alt-Process,Beginner Photography Classes,Hunt's Photo, Manchester,In-Person Classes,Instructor: Emily H.
ATTACH;FMTTYPE=image/jpeg:https://edu.huntsphoto.com/wp-content/uploads/josh-cinestill800t-120.jpg
END:VEVENT
BEGIN:VEVENT
DTSTART;TZID=America/New_York:20260328T100000
DTEND;TZID=America/New_York:20260328T130000
DTSTAMP:20260421T054758
CREATED:20260303T065333Z
LAST-MODIFIED:20260303T065344Z
UID:10003789-1774692000-1774702800@edu.huntsphoto.com
SUMMARY:Storytelling with Toys (and Legos)- Hunt's Photo\, Manchester
DESCRIPTION:Come see your photography through the eyes of a kid and transform your toys into life size photos!\nIn this dual macro/still life class\, we’ll spend our day creating a variety of still life set ups\, unique macro scenarios\, different lighting techniques\, compositions\, and how to tell a story when working with toys. We will cover exposure\, composition\, how to use macro lenses and extension tubes\, how to set up lighting\, how to use light modifiers and more! \nWe will be bringing lots of toys and other props to photograph for this workshop. However\, we find in our macro workshops that our attendees value shooting some things of their own as much if not more than what we bring. So\, while we will have those toys and props\, feel free to bring your own!
URL:https://edu.huntsphoto.com/event/storytelling-with-toys-and-legos-hunts-photo-manchester-mar-2026/
CATEGORIES:Hunt's Photo Walks,Hunt's Photo, Manchester,Instructor: Emily H.
ATTACH;FMTTYPE=image/jpeg:https://edu.huntsphoto.com/wp-content/uploads/@hojphoto_toys-2978.jpg
END:VEVENT
END:VCALENDAR