BEGIN:VCALENDAR
VERSION:2.0
PRODID:-//Hunt&#039;s Photo Education - ECPv6.15.20//NONSGML v1.0//EN
CALSCALE:GREGORIAN
METHOD:PUBLISH
X-ORIGINAL-URL:https://edu.huntsphoto.com
X-WR-CALDESC:Events for Hunt&#039;s Photo Education
REFRESH-INTERVAL;VALUE=DURATION:PT1H
X-Robots-Tag:noindex
X-PUBLISHED-TTL:PT1H
BEGIN:VTIMEZONE
TZID:America/New_York
BEGIN:DAYLIGHT
TZOFFSETFROM:-0500
TZOFFSETTO:-0400
TZNAME:EDT
DTSTART:20240310T070000
END:DAYLIGHT
BEGIN:STANDARD
TZOFFSETFROM:-0400
TZOFFSETTO:-0500
TZNAME:EST
DTSTART:20241103T060000
END:STANDARD
BEGIN:DAYLIGHT
TZOFFSETFROM:-0500
TZOFFSETTO:-0400
TZNAME:EDT
DTSTART:20250309T070000
END:DAYLIGHT
BEGIN:STANDARD
TZOFFSETFROM:-0400
TZOFFSETTO:-0500
TZNAME:EST
DTSTART:20251102T060000
END:STANDARD
BEGIN:DAYLIGHT
TZOFFSETFROM:-0500
TZOFFSETTO:-0400
TZNAME:EDT
DTSTART:20260308T070000
END:DAYLIGHT
BEGIN:STANDARD
TZOFFSETFROM:-0400
TZOFFSETTO:-0500
TZNAME:EST
DTSTART:20261101T060000
END:STANDARD
END:VTIMEZONE
BEGIN:VEVENT
DTSTART;TZID=America/New_York:20251107T130000
DTEND;TZID=America/New_York:20251107T170000
DTSTAMP:20260425T180535
CREATED:20251022T144255Z
LAST-MODIFIED:20251022T144255Z
UID:10003522-1762520400-1762534800@edu.huntsphoto.com
SUMMARY:The Best Portrait You’ve Ever Had... with Bobbi Lane
DESCRIPTION:Join Fuji X-Photographer and portrait extraordinaire Bobbi Lane to get your portrait taken: The Best Portrait You’ve Ever Had! \nBobbi Lane will be in our Hunt’s Photo Melrose store location taking portraits on Friday November 7th and Saturday November 8th. Bobbi and Lee Varis will craft flattering and meaningful portraits of anyone who wants a headshot! Bring a family member\, a friend\, a loved one\, or even get a portrait of yourself! (This is an excellent chance to get a free-of-charge professional portrait!) \nCome casual or dressed in your best—whatever look you prefer in your photo! We will have Nanlite continuous LED lighting and a backdrop for the session! Each session will be 15 minutes each. If you choose\, you can also ask questions about the process–from posing to lighting to camera gear and more! All images will be sent to you after the weekend is over via download link! \nSign up today for your time slot as soon as possible\, as spots are limited! \nAbout Bobbi Lane \nBobbi Lane\, a Fujifilm “X” Photographer\, is an award-winning commercial photographer specializing in creative portraits on location and in the studio. Lane’s multi-faceted approach to photography incorporates over 40 years of technical experience with innovative artistic interpretation. Her corporate and editorial work includes corporate websites and hundreds of environmental portraits for a wide variety of magazines. As a dedicated photo educator\, she brings insight and enthusiasm to her students in workshops held worldwide. She is widely known as the “Mistress of Light”\, teaching portrait lighting techniques with both natural and artificial light. Combining her love of travel\, photography and teaching\, Bobbi also leads international photo travel workshops with her husband Lee Varis\, such as Venice Carnival\, Tuscany\, Neighborhoods of New York and Scotland. Her dynamic workshops are always both education and entertaining! \nHer websites: \nwww.bobbilane.com \nwww.bobbiandleesphotoadventures.com
URL:https://edu.huntsphoto.com/event/the-best-portrait-youve-ever-had-with-bobbi-lane-fri-nov-2025/
CATEGORIES:Canon Mother's Day,Hunt's Show Experiences
ATTACH;FMTTYPE=image/jpeg:https://edu.huntsphoto.com/wp-content/uploads/LANE8685.jpg
END:VEVENT
BEGIN:VEVENT
DTSTART;TZID=America/New_York:20251108T090000
DTEND;TZID=America/New_York:20251108T110000
DTSTAMP:20260425T180535
CREATED:20251022T144251Z
LAST-MODIFIED:20251022T144251Z
UID:10003524-1762592400-1762599600@edu.huntsphoto.com
SUMMARY:Hunt's Photo Experience: Mastering the Art of Low Key Portraits with Bobbi Lane
DESCRIPTION:Light shapes the subject and commands attention\, making its thoughtful control crucial for establishing mood and atmosphere. Bright areas guide the viewer’s gaze while shadows create depth and emotional intensity. Low-key lighting embraces darkness and utilizes techniques like split lighting or rim lighting to cultivate mystery\, creating an understated yet striking effect on the audience. Photographer and Educator Bobbi Lane will discuss how to master the low key portraits using classic techniques and modern lighting. \nThere will be a brief opportunity towards the end of the session for attendees to photograph. Feel free to bring your camera\, lens\, and memory card. \nAbout Bobbi Lane \nBobbi Lane\, a Fujifilm “X” Photographer\, is an award-winning commercial photographer specializing in creative portraits on location and in the studio. Lane’s multi-faceted approach to photography incorporates over 40 years of technical experience with innovative artistic interpretation. Her corporate and editorial work includes corporate websites and hundreds of environmental portraits for a wide variety of magazines. As a dedicated photo educator\, she brings insight and enthusiasm to her students in workshops held worldwide. She is widely known as the “Mistress of Light”\, teaching portrait lighting techniques with both natural and artificial light. Combining her love of travel\, photography and teaching\, Bobbi also leads international photo travel workshops with her husband Lee Varis\, such as Venice Carnival\, Tuscany\, Neighborhoods of New York and Scotland. Her dynamic workshops are always both education and entertaining! \nHer websites: \nwww.bobbilane.com \nwww.bobbiandleesphotoadventures.com
URL:https://edu.huntsphoto.com/event/hunts-photo-experience-mastering-the-art-of-low-key-portraits-with-bobbi-lane-nov-2025/
CATEGORIES:Hunt's Show Experiences
ATTACH;FMTTYPE=image/jpeg:https://edu.huntsphoto.com/wp-content/uploads/LANE3757.jpg
END:VEVENT
BEGIN:VEVENT
DTSTART;TZID=America/New_York:20251108T113000
DTEND;TZID=America/New_York:20251108T130000
DTSTAMP:20260425T180535
CREATED:20251022T144243Z
LAST-MODIFIED:20251108T135554Z
UID:10003531-1762601400-1762606800@edu.huntsphoto.com
SUMMARY:Hunt's Photo Experience: Dynamic Outdoor Portraits (with Flash) with Westcott and SIGMA
DESCRIPTION:Whether you enjoy taking portraits in natural light or with flash\, there is so much to learn about how to create a dynamic portrait. Photographer Henry Marte will be conducting live portrait sessions outdoors (weather dependent!) using interesting and dynamic models. We will discuss the importance of lighting and how to effectively use speedlights and strobes in an outdoor environment. Bring your camera and a lens! \nPlease note: We have a few of these sessions throughout the weekend! Click here to see all available sessions\, as well as our other seminars and experiences. These sessions will be smaller in group size\, giving you more of a chance to ask questions! In case of inclement weather\, we may hold the sessions indoors. \n  \nAbout Henry Marte\nHenry is a published photographer and credited filmmaker. He specializes in various forms of photography\, including portrait\, events\, headshots\, drone\, and commercial photography. Other than attending MassArt’s Documentary Film School\, he is almost entirely self taught. He runs a small media production studio called Marte Media\, based out of Western Avenue Studios in Lowell. Some of his clients include Spartan Race\, UMass Lowell\, Phillips Academy\, Navigation Brewing Company\, and more. Originally from NYC\, he now calls Lowell\, Massachusetts his home. He enjoys New York style pizza\, walks with a camera\, and hiking to active volcanoes.
URL:https://edu.huntsphoto.com/event/hunts-photo-experience-dynamic-outdoor-portraits-with-flash-with-westcott-day1-nov-2025/
CATEGORIES:Hunt's Show Experiences
ATTACH;FMTTYPE=image/jpeg:https://edu.huntsphoto.com/wp-content/uploads/Marte-15.jpg
END:VEVENT
BEGIN:VEVENT
DTSTART;TZID=America/New_York:20251108T130000
DTEND;TZID=America/New_York:20251108T150000
DTSTAMP:20260425T180535
CREATED:20251022T144238Z
LAST-MODIFIED:20251108T135518Z
UID:10003530-1762606800-1762614000@edu.huntsphoto.com
SUMMARY:Hunt's Photo Experience: Equestrian Elegance Photoshoot with Canon USA
DESCRIPTION:Join Canon and Hunt’s Photo on November 8th for an Equestrian Elegance Photoshoot with beautiful horses and a model.  During this experience\, you will have an opportunity to photograph a pair of gentle draft horses\, with or without an additional model. If you would prefer\, you are also welcome to get your photo taken with these horses. \nWe will have the horses (and our model) on site from 1-3pm. General registration will allow you to attend at any point during that time. \nPlease note: This experience is weather dependent. The rain date is Sunday November 9th. \nRegistration Times: There are two sessions- 1-2pm and 2-3pm. You are welcome to come at any time\, but if you can be within your time frame\, it will make the experience more enjoyable and managable!
URL:https://edu.huntsphoto.com/event/hunts-photo-experience-equestrian-elegance-photoshoot-with-canon-usa-nov-2025/
CATEGORIES:Hunt's Show Experiences
ATTACH;FMTTYPE=image/webp:https://edu.huntsphoto.com/wp-content/uploads/Horsie.webp
END:VEVENT
BEGIN:VEVENT
DTSTART;TZID=America/New_York:20251108T130000
DTEND;TZID=America/New_York:20251108T170000
DTSTAMP:20260425T180535
CREATED:20251022T144233Z
LAST-MODIFIED:20251022T144233Z
UID:10003523-1762606800-1762621200@edu.huntsphoto.com
SUMMARY:The Best Portrait You’ve Ever Had... with Bobbi Lane
DESCRIPTION:Join Fuji X-Photographer and portrait extraordinaire Bobbi Lane to get your portrait taken: The Best Portrait You’ve Ever Had! \nBobbi Lane will be in our Hunt’s Photo Melrose store location taking portraits on Friday November 7th and Saturday November 8th. Bobbi and Lee Varis will craft flattering and meaningful portraits of anyone who wants a headshot! Bring a family member\, a friend\, a loved one\, or even get a portrait of yourself! (This is an excellent chance to get a free-of-charge professional portrait!) \nCome casual or dressed in your best—whatever look you prefer in your photo! We will have Nanlite continuous LED lighting and a backdrop for the session! Each session will be 15 minutes each. If you choose\, you can also ask questions about the process–from posing to lighting to camera gear and more! All images will be sent to you after the weekend is over via download link! \nSign up today for your time slot as soon as possible\, as spots are limited! \nAbout Bobbi Lane \nBobbi Lane\, a Fujifilm “X” Photographer\, is an award-winning commercial photographer specializing in creative portraits on location and in the studio. Lane’s multi-faceted approach to photography incorporates over 40 years of technical experience with innovative artistic interpretation. Her corporate and editorial work includes corporate websites and hundreds of environmental portraits for a wide variety of magazines. As a dedicated photo educator\, she brings insight and enthusiasm to her students in workshops held worldwide. She is widely known as the “Mistress of Light”\, teaching portrait lighting techniques with both natural and artificial light. Combining her love of travel\, photography and teaching\, Bobbi also leads international photo travel workshops with her husband Lee Varis\, such as Venice Carnival\, Tuscany\, Neighborhoods of New York and Scotland. Her dynamic workshops are always both education and entertaining! \nHer websites: \nwww.bobbilane.com \nwww.bobbiandleesphotoadventures.com
URL:https://edu.huntsphoto.com/event/the-best-portrait-youve-ever-had-with-bobbi-lane-sat-nov-2025/
CATEGORIES:Canon Mother's Day,Hunt's Show Experiences
ATTACH;FMTTYPE=image/jpeg:https://edu.huntsphoto.com/wp-content/uploads/LANE8685.jpg
END:VEVENT
BEGIN:VEVENT
DTSTART;TZID=America/New_York:20251108T133000
DTEND;TZID=America/New_York:20251108T150000
DTSTAMP:20260425T180535
CREATED:20251022T144227Z
LAST-MODIFIED:20251108T135558Z
UID:10003533-1762608600-1762614000@edu.huntsphoto.com
SUMMARY:Hunt's Photo Experience: Dynamic Indoor Portraits (with Flash) with Westcott and SIGMA
DESCRIPTION:Indoor and studio doesn’t mean you have to resort to creating boring portraits! Join photographer Henry Marte in creating dynamic portraits using a combination of lighting\, posing\, and more!   Henry will use simple tools\, colors\, and techniques to create awesome portraits! Bring your camera and a lens! \nPlease note: We have a few of these sessions throughout the weekend! Click here to see all available sessions\, as well as our other seminars and experiences. These sessions will be smaller in group size\, giving you more of a chance to ask questions! In case of inclement weather\, we may hold the sessions indoors. \n  \nAbout Henry Marte\nHenry is a published photographer and credited filmmaker. He specializes in various forms of photography\, including portrait\, events\, headshots\, drone\, and commercial photography. Other than attending MassArt’s Documentary Film School\, he is almost entirely self taught. He runs a small media production studio called Marte Media\, based out of Western Avenue Studios in Lowell. Some of his clients include Spartan Race\, UMass Lowell\, Phillips Academy\, Navigation Brewing Company\, and more. Originally from NYC\, he now calls Lowell\, Massachusetts his home. He enjoys New York style pizza\, walks with a camera\, and hiking to active volcanoes.
URL:https://edu.huntsphoto.com/event/hunts-photo-experience-dynamic-indoor-portraits-with-flash-with-westcott-day1-nov-2025/
CATEGORIES:Hunt's Show Experiences
ATTACH;FMTTYPE=image/jpeg:https://edu.huntsphoto.com/wp-content/uploads/Fahmina-RGB-Lights-Studio-Test-Henry-Marte-@martemedia-19.jpg
END:VEVENT
BEGIN:VEVENT
DTSTART;TZID=America/New_York:20251109T100000
DTEND;TZID=America/New_York:20251109T120000
DTSTAMP:20260425T180535
CREATED:20251022T144202Z
LAST-MODIFIED:20251022T144202Z
UID:10003525-1762682400-1762689600@edu.huntsphoto.com
SUMMARY:Hunt's Photo Experience: Photographing Reptiles with Tamron
DESCRIPTION:Join Tamron for a hands-on reptile photo shoot with Hunt’s Photo\, Tamron Lenses\, and Reptile Shows of New England. Tamron will share technical tips and tricks needed for handheld close-up photography\, which will allow you to achieve consistently tack sharp images\, all in a single frame and all without the need for a tripod! Topics will include specific camera settings\, lens selection\, overcoming distracting backgrounds\, using flash to properly balance exposure and achieve dramatic results\, and traditional and non-traditional gear hacks to maximize your time spent photographing your subjects.\nA Tamron representative will be on-hand providing free loaner lenses with incredible close-up capabilities in a variety of focal lengths.\nParticipants should bring a camera with a fully charged battery\, memory card\, any lens in the 18-400mm range (or borrow a Tamron lens!). Group sizes for this workshop will be limited to allow everyone an opportunity to capture images of the various reptiles on display.
URL:https://edu.huntsphoto.com/event/hunts-photo-experience-photographing-reptiles-with-tamron-nov-2025/
CATEGORIES:Hunt's Show Experiences
ATTACH;FMTTYPE=image/jpeg:https://edu.huntsphoto.com/wp-content/uploads/DSC_2110.jpg
END:VEVENT
BEGIN:VEVENT
DTSTART;TZID=America/New_York:20251109T110000
DTEND;TZID=America/New_York:20251109T123000
DTSTAMP:20260425T180535
CREATED:20251022T144155Z
LAST-MODIFIED:20251108T135604Z
UID:10003532-1762686000-1762691400@edu.huntsphoto.com
SUMMARY:Hunt's Photo Experience: Dynamic Outdoor Portraits (with Flash) with Westcott and SIGMA
DESCRIPTION:Whether you enjoy taking portraits in natural light or with flash\, there is so much to learn about how to create a dynamic portrait. Photographer Henry Marte will be conducting live portrait sessions outdoors (weather dependent!) using interesting and dynamic models. We will discuss the importance of lighting and how to effectively use speedlights and strobes in an outdoor environment. Bring your camera and a lens! \nPlease note: We have a few of these sessions throughout the weekend! Click here to see all available sessions\, as well as our other seminars and experiences. These sessions will be smaller in group size\, giving you more of a chance to ask questions! In case of inclement weather\, we may hold the sessions indoors. \n  \nAbout Henry Marte\nHenry is a published photographer and credited filmmaker. He specializes in various forms of photography\, including portrait\, events\, headshots\, drone\, and commercial photography. Other than attending MassArt’s Documentary Film School\, he is almost entirely self taught. He runs a small media production studio called Marte Media\, based out of Western Avenue Studios in Lowell. Some of his clients include Spartan Race\, UMass Lowell\, Phillips Academy\, Navigation Brewing Company\, and more. Originally from NYC\, he now calls Lowell\, Massachusetts his home. He enjoys New York style pizza\, walks with a camera\, and hiking to active volcanoes.
URL:https://edu.huntsphoto.com/event/hunts-photo-experience-dynamic-outdoor-portraits-with-flash-with-westcott-day2-nov-2025/
CATEGORIES:Hunt's Show Experiences
ATTACH;FMTTYPE=image/jpeg:https://edu.huntsphoto.com/wp-content/uploads/Marte-18.jpg
END:VEVENT
BEGIN:VEVENT
DTSTART;TZID=America/New_York:20251109T133000
DTEND;TZID=America/New_York:20251109T150000
DTSTAMP:20260425T180535
CREATED:20251022T144148Z
LAST-MODIFIED:20251108T135609Z
UID:10003534-1762695000-1762700400@edu.huntsphoto.com
SUMMARY:Hunt's Photo Experience: Dynamic Indoor Portraits (with Flash) with Westcott and SIGMA
DESCRIPTION:Indoor and studio doesn’t mean you have to resort to creating boring portraits! Join photographer Henry Marte in creating dynamic portraits using a combination of lighting\, posing\, and more!   Henry will use simple tools\, colors\, and techniques to create awesome portraits! Bring your camera and a lens! \nPlease note: We have a few of these sessions throughout the weekend! Click here to see all available sessions\, as well as our other seminars and experiences. These sessions will be smaller in group size\, giving you more of a chance to ask questions! In case of inclement weather\, we may hold the sessions indoors. \n  \nAbout Henry Marte\nHenry is a published photographer and credited filmmaker. He specializes in various forms of photography\, including portrait\, events\, headshots\, drone\, and commercial photography. Other than attending MassArt’s Documentary Film School\, he is almost entirely self taught. He runs a small media production studio called Marte Media\, based out of Western Avenue Studios in Lowell. Some of his clients include Spartan Race\, UMass Lowell\, Phillips Academy\, Navigation Brewing Company\, and more. Originally from NYC\, he now calls Lowell\, Massachusetts his home. He enjoys New York style pizza\, walks with a camera\, and hiking to active volcanoes.
URL:https://edu.huntsphoto.com/event/hunts-photo-experience-dynamic-indoor-portraits-with-flash-with-westcott-day2-nov-2025/
CATEGORIES:Hunt's Show Experiences
ATTACH;FMTTYPE=image/jpeg:https://edu.huntsphoto.com/wp-content/uploads/HM_29573-3.jpg
END:VEVENT
END:VCALENDAR