BEGIN:VCALENDAR
VERSION:2.0
PRODID:-//Hunt&#039;s Photo Education - ECPv6.15.20//NONSGML v1.0//EN
CALSCALE:GREGORIAN
METHOD:PUBLISH
X-WR-CALNAME:Hunt&#039;s Photo Education
X-ORIGINAL-URL:https://edu.huntsphoto.com
X-WR-CALDESC:Events for Hunt&#039;s Photo Education
REFRESH-INTERVAL;VALUE=DURATION:PT1H
X-Robots-Tag:noindex
X-PUBLISHED-TTL:PT1H
BEGIN:VTIMEZONE
TZID:America/New_York
BEGIN:DAYLIGHT
TZOFFSETFROM:-0500
TZOFFSETTO:-0400
TZNAME:EDT
DTSTART:20250309T070000
END:DAYLIGHT
BEGIN:STANDARD
TZOFFSETFROM:-0400
TZOFFSETTO:-0500
TZNAME:EST
DTSTART:20251102T060000
END:STANDARD
BEGIN:DAYLIGHT
TZOFFSETFROM:-0500
TZOFFSETTO:-0400
TZNAME:EDT
DTSTART:20260308T070000
END:DAYLIGHT
BEGIN:STANDARD
TZOFFSETFROM:-0400
TZOFFSETTO:-0500
TZNAME:EST
DTSTART:20261101T060000
END:STANDARD
BEGIN:DAYLIGHT
TZOFFSETFROM:-0500
TZOFFSETTO:-0400
TZNAME:EDT
DTSTART:20270314T070000
END:DAYLIGHT
BEGIN:STANDARD
TZOFFSETFROM:-0400
TZOFFSETTO:-0500
TZNAME:EST
DTSTART:20271107T060000
END:STANDARD
END:VTIMEZONE
BEGIN:VEVENT
DTSTART;TZID=America/New_York:20260201T100000
DTEND;TZID=America/New_York:20260201T140000
DTSTAMP:20260422T173008
CREATED:20260111T052019Z
LAST-MODIFIED:20260201T194115Z
UID:10003697-1769940000-1769954400@edu.huntsphoto.com
SUMMARY:Beginner Photography Series- Hunt’s Photo\, Melrose
DESCRIPTION:Do you have a new DSLR that you have no idea how to use?\nHave you had your camera for 6 months\, a year or more and want to take better pictures?\nAre you putting your camera away because you just don’t see the difference between your expensive camera and your smart phone? \nLearn to fully utilize your cameras potentials! Harness your creative power with photography!\nThis is the essential class for anyone looking to take that first giant step into the world of photography! Our patient and entertaining instructors will cover all the basics in this hands-on class\, including changing depth-of-field (controlling what’s in focus in the background)\, stopping or blurring the action in your scene\, and many other basic picture-taking techniques. \nOur two guarantees:\n You will learn a lot!\n You will have a fun time doing it! \nSome character references: \n\n“I was impressed with how well the class was run\, the amount of material covered so thoroughly and how all different camera types were incorporated without it causing issues. I was really impressed with the whole experience. Great instructors!!”\n“Everything was condensed and taught at a basic level which helped with the confusion I had before coming to class. Bottom Line: Great class for confused beginners.”\n“Everything about this class was excellent. The instructors were patient and took time to answer every question thoroughly and we were given ample time to try out the techniques we were being shown. All in all\, a wonderful experience.”\n“Very much liked the instructors- knowledgeable\, entertaining\, encouraging\, not judgmental. Loved the casual nature of the class and opportunity for one-on-one discussions. Excellent for me\, as a novice.”
URL:https://edu.huntsphoto.com/event/beginner-photography-series-hunts-photo-melrose-feb-1-2026/
CATEGORIES:Beginner Melrose,Beginner Photography Classes,Hunt's Photo, Melrose,In-Person Beginner Photography Classes,In-Person Classes,Instructor: Carlos P.
ATTACH;FMTTYPE=image/jpeg:https://edu.huntsphoto.com/wp-content/uploads/@hojphoto_NorthEndLensbaby-5491.jpg
END:VEVENT
BEGIN:VEVENT
DTSTART;TZID=America/New_York:20260203T180000
DTEND;TZID=America/New_York:20260203T200000
DTSTAMP:20260422T173008
CREATED:20260117T173021Z
LAST-MODIFIED:20260118T005159Z
UID:10003717-1770141600-1770148800@edu.huntsphoto.com
SUMMARY:Intermediate Photography: Getting the Look in Your Photography- Hunt's Photo\, Melrose
DESCRIPTION:Intermediate Photography – Getting the Look is designed to help you expand on your foundational technical knowledge while diving deeper into the creative side of photography. In this class\, you’ll learn how to shape the “look” of your images by using light\, shadow\, color\, and composition as storytelling tools. We’ll explore how creative choices influence mood\, energy\, and emotion—helping you capture not just what a subject looks like\, but what it feels like. \nIn Intermediate Photography – Getting the Look\, we’ll go beyond exposure and focus on crafting photographs with intention. Through hands-on exercises\, we’ll explore how to use color theory\, light and shadow\, and compositional techniques to enhance storytelling and create photographs with mood and impact. By the end of the class\, you’ll feel more confident in making creative choices that give your images their own distinct look and feel. \nTaking our Beginner Photography OR Digital Photo Basics 1 and 2 classes (or equivalent experience) is recommended prior to this course.
URL:https://edu.huntsphoto.com/event/intermediate-photography-getting-the-look-in-your-photography-hunts-photo-melrose-feb-2026/
CATEGORIES:Beginner Photography Classes,Beyond the Basics Classes,Hunt's Photo, Melrose,In-Person Beginner Photography Classes,In-Person Classes,Instructor: Mike P.,Slider
ATTACH;FMTTYPE=image/jpeg:https://edu.huntsphoto.com/wp-content/uploads/MPP_9697.jpg
END:VEVENT
BEGIN:VEVENT
DTSTART;TZID=America/New_York:20260207T100000
DTEND;TZID=America/New_York:20260207T140000
DTSTAMP:20260422T173008
CREATED:20251208T175457Z
LAST-MODIFIED:20260112T134043Z
UID:10003659-1770458400-1770472800@edu.huntsphoto.com
SUMMARY:Beginner Photography Series- Hunt’s Photo\, Providence
DESCRIPTION:Do you have a new DSLR that you have no idea how to use?\nHave you had your camera for 6 months\, a year or more and want to take better pictures?\nAre you putting your camera away because you just don’t see the difference between your expensive camera and your smart phone? \nLearn to fully utilize your cameras potentials! Harness your creative power with photography!\nThis is the essential class for anyone looking to take that first giant step into the world of photography! Our patient and entertaining instructors will cover all the basics in this hands-on class\, including changing depth-of-field (controlling what’s in focus in the background)\, stopping or blurring the action in your scene\, and many other basic picture-taking techniques. \nOur two guarantees:\n You will learn a lot!\n You will have a fun time doing it! \nSome character references: \n\n“I was impressed with how well the class was run\, the amount of material covered so thoroughly and how all different camera types were incorporated without it causing issues. I was really impressed with the whole experience. Great instructors!!”\n“Everything was condensed and taught at a basic level which helped with the confusion I had before coming to class. Bottom Line: Great class for confused beginners.”\n“Everything about this class was excellent. The instructors were patient and took time to answer every question thoroughly and we were given ample time to try out the techniques we were being shown. All in all\, a wonderful experience.”\n“Very much liked the instructors- knowledgeable\, entertaining\, encouraging\, not judgmental. Loved the casual nature of the class and opportunity for one-on-one discussions. Excellent for me\, as a novice.”
URL:https://edu.huntsphoto.com/event/beginner-photography-series-hunts-photo-providence-feb-7-14-2026/
CATEGORIES:Beginner Photography Classes,Hunt's Photo, Providence,In-Person Beginner Photography Classes,In-Person Classes
ATTACH;FMTTYPE=image/jpeg:https://edu.huntsphoto.com/wp-content/uploads/PointJudith.jpg
END:VEVENT
BEGIN:VEVENT
DTSTART;TZID=America/New_York:20260208T100000
DTEND;TZID=America/New_York:20260208T120000
DTSTAMP:20260422T173008
CREATED:20251201T174501Z
LAST-MODIFIED:20251201T174501Z
UID:10003601-1770544800-1770552000@edu.huntsphoto.com
SUMMARY:Beginner Photography Series- Hunt’s Photo\, Hanover
DESCRIPTION:Do you have a new DSLR that you have no idea how to use?\nHave you had your camera for 6 months\, a year or more and want to take better pictures?\nAre you putting your camera away because you just don’t see the difference between your expensive camera and your smart phone? \nLearn to fully utilize your cameras potentials! Harness your creative power with photography!\nThis is the essential class for anyone looking to take that first giant step into the world of photography! Our patient and entertaining instructors will cover all the basics in this hands-on class\, including changing depth-of-field (controlling what’s in focus in the background)\, stopping or blurring the action in your scene\, and many other basic picture-taking techniques. \nOur two guarantees:\n You will learn a lot!\n You will have a fun time doing it! \nSome character references: \n\n“I was impressed with how well the class was run\, the amount of material covered so thoroughly and how all different camera types were incorporated without it causing issues. I was really impressed with the whole experience. Great instructors!!”\n“Everything was condensed and taught at a basic level which helped with the confusion I had before coming to class. Bottom Line: Great class for confused beginners.”\n“Everything about this class was excellent. The instructors were patient and took time to answer every question thoroughly and we were given ample time to try out the techniques we were being shown. All in all\, a wonderful experience.”\n“Very much liked the instructors- knowledgeable\, entertaining\, encouraging\, not judgmental. Loved the casual nature of the class and opportunity for one-on-one discussions. Excellent for me\, as a novice.”
URL:https://edu.huntsphoto.com/event/beginner-photography-series-hunts-photo-hanover-feb-2026/
CATEGORIES:Beginner Photography Classes,Hunt's Photo, Hanover,In-Person Beginner Photography Classes,In-Person Classes
ATTACH;FMTTYPE=image/jpeg:https://edu.huntsphoto.com/wp-content/uploads/20191110_Plimoth_Plantation_Photowalk__T7A0966.jpg
END:VEVENT
BEGIN:VEVENT
DTSTART;TZID=America/New_York:20260211T180000
DTEND;TZID=America/New_York:20260211T200000
DTSTAMP:20260422T173008
CREATED:20251119T034330Z
LAST-MODIFIED:20251119T034330Z
UID:10003588-1770832800-1770840000@edu.huntsphoto.com
SUMMARY:Beginner Photography Series- Hunt’s Photo\, South Portland
DESCRIPTION:Do you have a new DSLR that you have no idea how to use?\nHave you had your camera for 6 months\, a year or more and want to take better pictures?\nAre you putting your camera away because you just don’t see the difference between your expensive camera and your smart phone? \nLearn to fully utilize your cameras potentials! Harness your creative power with photography!\nThis is the essential class for anyone looking to take that first giant step into the world of photography! Our patient and entertaining instructors will cover all the basics in this hands-on class\, including changing depth-of-field (controlling what’s in focus in the background)\, stopping or blurring the action in your scene\, and many other basic picture-taking techniques. \nOur two guarantees:\n You will learn a lot!\n You will have a fun time doing it! \nSome character references: \n\n“I was impressed with how well the class was run\, the amount of material covered so thoroughly and how all different camera types were incorporated without it causing issues. I was really impressed with the whole experience. Great instructors!!”\n“Everything was condensed and taught at a basic level which helped with the confusion I had before coming to class. Bottom Line: Great class for confused beginners.”\n“Everything about this class was excellent. The instructors were patient and took time to answer every question thoroughly and we were given ample time to try out the techniques we were being shown. All in all\, a wonderful experience.”\n“Very much liked the instructors- knowledgeable\, entertaining\, encouraging\, not judgmental. Loved the casual nature of the class and opportunity for one-on-one discussions. Excellent for me\, as a novice.”
URL:https://edu.huntsphoto.com/event/beginner-photography-series-hunts-photo-south-portland-feb-2026/
CATEGORIES:Beginner Photography Classes,Hunt's Photo, South Portland,In-Person Beginner Photography Classes,In-Person Classes,Instructor: Ray L.
ATTACH;FMTTYPE=image/jpeg:https://edu.huntsphoto.com/wp-content/uploads/RMLOldPort2.jpg
END:VEVENT
BEGIN:VEVENT
DTSTART;TZID=America/New_York:20260221T090000
DTEND;TZID=America/New_York:20260221T130000
DTSTAMP:20260422T173008
CREATED:20260125T132716Z
LAST-MODIFIED:20260125T132716Z
UID:10003732-1771664400-1771678800@edu.huntsphoto.com
SUMMARY:Beginner Photography Series- Hunt’s Photo\, Holyoke
DESCRIPTION:Do you have a new DSLR that you have no idea how to use?\nHave you had your camera for 6 months\, a year or more and want to take better pictures?\nAre you putting your camera away because you just don’t see the difference between your expensive camera and your smart phone? \nLearn to fully utilize your cameras potentials! Harness your creative power with photography!\nThis is the essential class for anyone looking to take that first giant step into the world of photography! Our patient and entertaining instructors will cover all the basics in this hands-on class\, including changing depth-of-field (controlling what’s in focus in the background)\, stopping or blurring the action in your scene\, and many other basic picture-taking techniques. \nOur two guarantees:\n You will learn a lot!\n You will have a fun time doing it! \nSome character references: \n\n“I was impressed with how well the class was run\, the amount of material covered so thoroughly and how all different camera types were incorporated without it causing issues. I was really impressed with the whole experience. Great instructors!!”\n“Everything was condensed and taught at a basic level which helped with the confusion I had before coming to class. Bottom Line: Great class for confused beginners.”\n“Everything about this class was excellent. The instructors were patient and took time to answer every question thoroughly and we were given ample time to try out the techniques we were being shown. All in all\, a wonderful experience.”\n“Very much liked the instructors- knowledgeable\, entertaining\, encouraging\, not judgmental. Loved the casual nature of the class and opportunity for one-on-one discussions. Excellent for me\, as a novice.”
URL:https://edu.huntsphoto.com/event/beginner-photography-series-hunts-photo-holyoke-feb-2026/
CATEGORIES:Beginner Photography Classes,Hunt's Photo, Holyoke,In-Person Beginner Photography Classes,In-Person Classes,Instructor: Walter J.
ATTACH;FMTTYPE=image/jpeg:https://edu.huntsphoto.com/wp-content/uploads/ZooLightsPKL01820web.jpg
END:VEVENT
BEGIN:VEVENT
DTSTART;TZID=America/New_York:20260221T120000
DTEND;TZID=America/New_York:20260221T140000
DTSTAMP:20260422T173008
CREATED:20260120T194601Z
LAST-MODIFIED:20260210T181307Z
UID:10003727-1771675200-1771682400@edu.huntsphoto.com
SUMMARY:Intermediate Photography: Getting the Look in Your Photography- Hunt's Photo\, Waltham
DESCRIPTION:Intermediate Photography – Getting the Look is designed to help you expand on your foundational technical knowledge while diving deeper into the creative side of photography. In this class\, you’ll learn how to shape the “look” of your images by using light\, shadow\, color\, and composition as storytelling tools. We’ll explore how creative choices influence mood\, energy\, and emotion—helping you capture not just what a subject looks like\, but what it feels like. \nIn Intermediate Photography – Getting the Look\, we’ll go beyond exposure and focus on crafting photographs with intention. Through hands-on exercises\, we’ll explore how to use color theory\, light and shadow\, and compositional techniques to enhance storytelling and create photographs with mood and impact. By the end of the class\, you’ll feel more confident in making creative choices that give your images their own distinct look and feel. \nTaking our Beginner Photography OR Digital Photo Basics 1 and 2 classes (or equivalent experience) is recommended prior to this course.
URL:https://edu.huntsphoto.com/event/intermediate-photography-getting-the-look-in-your-photography-hunts-photo-waltham-feb-2026/
CATEGORIES:Beginner Photography Classes,Beyond the Basics Classes,Hunt's Photo, Waltham,In-Person Beginner Photography Classes,In-Person Classes,Instructor: Mike P.,Intermediate
ATTACH;FMTTYPE=image/jpeg:https://edu.huntsphoto.com/wp-content/uploads/MPP_9697.jpg
END:VEVENT
BEGIN:VEVENT
DTSTART;TZID=America/New_York:20260224T180000
DTEND;TZID=America/New_York:20260224T200000
DTSTAMP:20260422T173008
CREATED:20260114T211215Z
LAST-MODIFIED:20260114T211215Z
UID:10003715-1771956000-1771963200@edu.huntsphoto.com
SUMMARY:Beginner Photography Series- Hunt’s Photo\, Melrose
DESCRIPTION:Do you have a new DSLR that you have no idea how to use?\nHave you had your camera for 6 months\, a year or more and want to take better pictures?\nAre you putting your camera away because you just don’t see the difference between your expensive camera and your smart phone? \nLearn to fully utilize your cameras potentials! Harness your creative power with photography!\nThis is the essential class for anyone looking to take that first giant step into the world of photography! Our patient and entertaining instructors will cover all the basics in this hands-on class\, including changing depth-of-field (controlling what’s in focus in the background)\, stopping or blurring the action in your scene\, and many other basic picture-taking techniques. \nOur two guarantees:\n You will learn a lot!\n You will have a fun time doing it! \nSome character references: \n\n“I was impressed with how well the class was run\, the amount of material covered so thoroughly and how all different camera types were incorporated without it causing issues. I was really impressed with the whole experience. Great instructors!!”\n“Everything was condensed and taught at a basic level which helped with the confusion I had before coming to class. Bottom Line: Great class for confused beginners.”\n“Everything about this class was excellent. The instructors were patient and took time to answer every question thoroughly and we were given ample time to try out the techniques we were being shown. All in all\, a wonderful experience.”\n“Very much liked the instructors- knowledgeable\, entertaining\, encouraging\, not judgmental. Loved the casual nature of the class and opportunity for one-on-one discussions. Excellent for me\, as a novice.”
URL:https://edu.huntsphoto.com/event/beginner-photography-series-hunts-photo-melrose-feb-24-mar-3-2026/
CATEGORIES:Beginner Melrose,Beginner Photography Classes,Hunt's Photo, Melrose,In-Person Beginner Photography Classes,In-Person Classes,Instructor: Rebecca L.
ATTACH;FMTTYPE=image/jpeg:https://edu.huntsphoto.com/wp-content/uploads/@hojphoto_NorthEndLensbaby-5491.jpg
END:VEVENT
BEGIN:VEVENT
DTSTART;TZID=America/New_York:20260228T090000
DTEND;TZID=America/New_York:20260228T130000
DTSTAMP:20260422T173008
CREATED:20260201T195235Z
LAST-MODIFIED:20260201T195235Z
UID:10003764-1772269200-1772283600@edu.huntsphoto.com
SUMMARY:Beginner Photography Series- Hunt’s Photo\, Melrose
DESCRIPTION:Do you have a new DSLR that you have no idea how to use?\nHave you had your camera for 6 months\, a year or more and want to take better pictures?\nAre you putting your camera away because you just don’t see the difference between your expensive camera and your smart phone? \nLearn to fully utilize your cameras potentials! Harness your creative power with photography!\nThis is the essential class for anyone looking to take that first giant step into the world of photography! Our patient and entertaining instructors will cover all the basics in this hands-on class\, including changing depth-of-field (controlling what’s in focus in the background)\, stopping or blurring the action in your scene\, and many other basic picture-taking techniques. \nOur two guarantees:\n You will learn a lot!\n You will have a fun time doing it! \nSome character references: \n\n“I was impressed with how well the class was run\, the amount of material covered so thoroughly and how all different camera types were incorporated without it causing issues. I was really impressed with the whole experience. Great instructors!!”\n“Everything was condensed and taught at a basic level which helped with the confusion I had before coming to class. Bottom Line: Great class for confused beginners.”\n“Everything about this class was excellent. The instructors were patient and took time to answer every question thoroughly and we were given ample time to try out the techniques we were being shown. All in all\, a wonderful experience.”\n“Very much liked the instructors- knowledgeable\, entertaining\, encouraging\, not judgmental. Loved the casual nature of the class and opportunity for one-on-one discussions. Excellent for me\, as a novice.”
URL:https://edu.huntsphoto.com/event/beginner-photography-series-hunts-photo-melrose-feb-28-2026/
CATEGORIES:Beginner Melrose,Beginner Photography Classes,Hunt's Photo, Melrose,In-Person Beginner Photography Classes,In-Person Classes,Instructor: Rebecca L.
ATTACH;FMTTYPE=image/jpeg:https://edu.huntsphoto.com/wp-content/uploads/@hojphoto_NorthEndLensbaby-5491.jpg
END:VEVENT
END:VCALENDAR