BEGIN:VCALENDAR
VERSION:2.0
PRODID:-//Hunt&#039;s Photo Education - ECPv6.15.20//NONSGML v1.0//EN
CALSCALE:GREGORIAN
METHOD:PUBLISH
X-ORIGINAL-URL:https://edu.huntsphoto.com
X-WR-CALDESC:Events for Hunt&#039;s Photo Education
REFRESH-INTERVAL;VALUE=DURATION:PT1H
X-Robots-Tag:noindex
X-PUBLISHED-TTL:PT1H
BEGIN:VTIMEZONE
TZID:America/New_York
BEGIN:DAYLIGHT
TZOFFSETFROM:-0500
TZOFFSETTO:-0400
TZNAME:EDT
DTSTART:20250309T070000
END:DAYLIGHT
BEGIN:STANDARD
TZOFFSETFROM:-0400
TZOFFSETTO:-0500
TZNAME:EST
DTSTART:20251102T060000
END:STANDARD
BEGIN:DAYLIGHT
TZOFFSETFROM:-0500
TZOFFSETTO:-0400
TZNAME:EDT
DTSTART:20260308T070000
END:DAYLIGHT
BEGIN:STANDARD
TZOFFSETFROM:-0400
TZOFFSETTO:-0500
TZNAME:EST
DTSTART:20261101T060000
END:STANDARD
BEGIN:DAYLIGHT
TZOFFSETFROM:-0500
TZOFFSETTO:-0400
TZNAME:EDT
DTSTART:20270314T070000
END:DAYLIGHT
BEGIN:STANDARD
TZOFFSETFROM:-0400
TZOFFSETTO:-0500
TZNAME:EST
DTSTART:20271107T060000
END:STANDARD
END:VTIMEZONE
BEGIN:VEVENT
DTSTART;TZID=America/New_York:20260201T120000
DTEND;TZID=America/New_York:20260201T160000
DTSTAMP:20260421T124815
CREATED:20260113T162133Z
LAST-MODIFIED:20260117T174459Z
UID:10003709-1769947200-1769961600@edu.huntsphoto.com
SUMMARY:Hunt's Photo Walk: Pond Hockey Tournament in Meredith\, NH
DESCRIPTION:Ice hockey is a fast\, exciting sport played in many regions of the world. Long before professional ice hockey players competed in organized leagues\, they played on frozen ponds and lakes\, chasing their dreams. \nJoin us as we photograph and enjoy the excitement of outdoor pond hockey in Meredith\, NH. \nPlease note: As noted in the title\, this walk will take place outside on a (hopefully) frozen pond. Please make sure to take all precautions to stay warm\, including appropriate footwear\, layers\, and hand warmers. Extra batteries will also be helpful.
URL:https://edu.huntsphoto.com/event/hunts-photo-walk-pond-hockey-tournament-in-meredith-nh-feb-2026/
CATEGORIES:Hunt's Photo Walks,Instructor: Don T.,Slider
ATTACH;FMTTYPE=image/jpeg:https://edu.huntsphoto.com/wp-content/uploads/Hockey-06171.jpg
END:VEVENT
BEGIN:VEVENT
DTSTART;TZID=America/New_York:20260206T100000
DTEND;TZID=America/New_York:20260206T130000
DTSTAMP:20260421T124815
CREATED:20260113T152637Z
LAST-MODIFIED:20260113T152637Z
UID:10003706-1770372000-1770382800@edu.huntsphoto.com
SUMMARY:Hunt's Photo Walk: Charles River Museum of Industry & Innovation
DESCRIPTION:The Charles River Museum of Industry is currently housed in what is considered the first ever factory in America. In Waltham\, the closed factory now plays the role of housing a history of the tools and machinery used in industry. This walk is an excellent chance to photograph the grit of the previous centuries under the Industrial Revolution\, and is a chance to work in low-light environments where the lighting sources cannot be controlled and focus on macro photography. Join us for a wonderful experience!
URL:https://edu.huntsphoto.com/event/hunts-photo-walk-charles-river-museum-of-industry-innovation-feb-2026/
CATEGORIES:Hunt's Photo Walks,Instructor: Don T.
ATTACH;FMTTYPE=image/jpeg:https://edu.huntsphoto.com/wp-content/uploads/steam.jpg
END:VEVENT
BEGIN:VEVENT
DTSTART;TZID=America/New_York:20260212T190000
DTEND;TZID=America/New_York:20260212T210000
DTSTAMP:20260421T124815
CREATED:20260120T201257Z
LAST-MODIFIED:20260203T204030Z
UID:10003730-1770922800-1770930000@edu.huntsphoto.com
SUMMARY:Online: Personal Vision Series- Our Intimate Home (Image Review)
DESCRIPTION:Join Hunt’s Photo Education as we help grow your knowledge\, creativity\, and artistic expression with our expanded Personal Vision Series. These classes are designed to provide you time\, opportunity\, and guidance in shaping your creative photographic voice. We will give an overview on a specific topic in an online class session\, then give you time to go into the field by yourself (or with someone else\, if you choose) to complete an assignment based on that topic. We will reconvene a few days later for an online image review to discuss elements of your images.\nThe Personal Vision Series is a crossroads of many different ideas that we offer with Hunt’s Photo Education: Topic-based instruction/classes\, Photo Walks\, & Image Reviews. However\, unlike a Photo Walk where we will all take a certain direction\, for the “Walk” portion\, you will be asked to journey out on your own to photograph. This will cause you to be the driving force of your creativity and vision!
URL:https://edu.huntsphoto.com/event/online-personal-vision-series-our-intimate-home-image-review-feb-2026/
CATEGORIES:Instructor: Don T.
ATTACH;FMTTYPE=image/jpeg:https://edu.huntsphoto.com/wp-content/uploads/XT058335-2.jpg
END:VEVENT
BEGIN:VEVENT
DTSTART;TZID=America/New_York:20260213T093000
DTEND;TZID=America/New_York:20260213T160000
DTSTAMP:20260421T124815
CREATED:20260113T152817Z
LAST-MODIFIED:20260117T174604Z
UID:10003707-1770975000-1770998400@edu.huntsphoto.com
SUMMARY:Hunt's Photo Walk: Winter at Olde Sturbridge Village
DESCRIPTION:Located an hour west of Boston\, Sturbridge Village is a proud replication of an 18th century New England town. Sturbridge Village is a living history museum that features many authentic period buildings and homes to explore and enjoy. The village is also inhabited by re-enactors who provide colorful insight to life in New England during the 18th century. Sturbridge Village is a wonderful destination for a multitude of photographic opportunities as well as a glimpse into a bygone era.\nOlde Sturbridge Village is perhaps one of the best places to have both a Photo Walk and a class. There’s a little bit of everything at this living history museum\, from macro and closeup with fine details to architecture\, from portraits to landscapes. We will photograph both indoors and outdoors\, in regular light as well as very low light. We will discuss how to work with subjects to create a story\, and also work on settings to fine-tune focus and exposure! This Photo Walk is one of the best opportunities to build your photographic knowledge\, no matter what level. This walk is equally as beneficial as a first walk or a twentieth walk\, as the area has so much to offer!\nJoin us for a great experience!\nPlease note: The cost of your ticket does NOT include the cost of your entrance into Olde Sturbridge Village\, which can be purchased here: https://www.osv.org/plan-your-visit/
URL:https://edu.huntsphoto.com/event/hunts-photo-walk-winter-at-olde-sturbridge-village-feb-2026/
CATEGORIES:Hunt's Photo Walks,Instructor: Don T.,Slider
ATTACH;FMTTYPE=image/jpeg:https://edu.huntsphoto.com/wp-content/uploads/Sturbridge_Z661616-2web-2.jpg
END:VEVENT
BEGIN:VEVENT
DTSTART;TZID=America/New_York:20260217T190000
DTEND;TZID=America/New_York:20260217T200000
DTSTAMP:20260421T124815
CREATED:20260210T162538Z
LAST-MODIFIED:20260210T183635Z
UID:10003766-1771354800-1771358400@edu.huntsphoto.com
SUMMARY:Online: Personal Vision Series- Exploring Adjectives
DESCRIPTION:Introductory Presentation Tuesday February 17th\, 7pm EST\nImage Review – Tuesday March 3rd\, 7pm EST \nJoin Hunt’s Photo Education as we help grow your knowledge\, creativity\, and artistic expression with our expanded Personal Vision Series. These classes are designed to provide you time\, opportunity\, and guidance in shaping your creative photographic voice. We will give an overview on a specific topic in an online class session\, then give you time to go into the field by yourself (or with someone else\, if you choose) to complete an assignment based on that topic. We will reconvene a few days later for an online image review to discuss elements of your images.\nThe Personal Vision Series is a crossroads of many different ideas that we offer with Hunt’s Photo Education: Topic-based instruction/classes\, Photo Walks\, & Image Reviews. However\, unlike a Photo Walk where we will all take a certain direction\, for the “Walk” portion\, you will be asked to journey out on your own to photograph. This will cause you to be the driving force of your creativity and vision!\nThis month’s topic is “Exploring Adjectives”.  We will have an instructional online presentation on the first date and will reconvene for our Image Review on the second date. You will have that time period in between to photograph and edit our assignment. Your personal creative voice is critical to your growth as a photographer and as an artist. Join us for to help grow that voice!
URL:https://edu.huntsphoto.com/event/online-personal-vision-series-exploring-adjectives-feb-2026/
CATEGORIES:Hunt's Photo Walks,Instructor: Don T.,Online Courses
ATTACH;FMTTYPE=image/jpeg:https://edu.huntsphoto.com/wp-content/uploads/Edited_BW_DT7_2171-408.jpg
END:VEVENT
BEGIN:VEVENT
DTSTART;TZID=America/New_York:20260225T190000
DTEND;TZID=America/New_York:20260225T210000
DTSTAMP:20260421T124815
CREATED:20260210T161117Z
LAST-MODIFIED:20260210T175925Z
UID:10003770-1772046000-1772053200@edu.huntsphoto.com
SUMMARY:Online: Grow Your Photography
DESCRIPTION:So you’ve taken a few images that you think are really great. Maybe you have been building up this repertoire of photographs for some time\, but there’s that nagging feeling that keeps building up within you. How can you take your photography to the next level? What is it that you look for? \nJoin Hunt’s Photo Education’s Don Toothaker to learn and discuss techniques and tips on how to grow your creative eye as well as your photographic knowledge. We’ll discuss elements of composition and settings\, but also how to think outside the box and consider developing a consistency in your photographic work.
URL:https://edu.huntsphoto.com/event/online-grow-your-photography-feb-2026/
CATEGORIES:Instructor: Don T.,Online Courses
ATTACH;FMTTYPE=image/jpeg:https://edu.huntsphoto.com/wp-content/uploads/XP21437-4.jpg
END:VEVENT
BEGIN:VEVENT
DTSTART;TZID=America/New_York:20260226T150000
DTEND;TZID=America/New_York:20260301T110000
DTSTAMP:20260421T124815
CREATED:20251016T032127Z
LAST-MODIFIED:20260302T140202Z
UID:10003517-1772118000-1772362800@edu.huntsphoto.com
SUMMARY:Hunt's Photo Adventure: Winter at Pemaquid Point\, Maine
DESCRIPTION:The coast of Maine is distinctive\, beautiful\, and highly photogenic. The many small towns of Mid Coast Maine are home to a dramatic shoreline\, quaint fishing harbors\, and dramatic lighthouses. Over the course of this short weekend workshop\, we will photograph Pemaquid Point Lighthouse at sunset and other locations along the coast. We will also photograph the Wiscasset Steam Railway for one of its steam train events.\nEach location we will photograph makes for a dynamic destination that will challenge photographers of every skill level.
URL:https://edu.huntsphoto.com/event/hunts-photo-adventure-winter-at-pemaquid-point-maine-feb-2026/
CATEGORIES:Hunt's Photo Adventures,Instructor: Don T.
ATTACH;FMTTYPE=image/jpeg:https://edu.huntsphoto.com/wp-content/uploads/Z62_7224-1.jpg
END:VEVENT
END:VCALENDAR