BEGIN:VCALENDAR
VERSION:2.0
PRODID:-//Hunt&#039;s Photo Education - ECPv6.15.20//NONSGML v1.0//EN
CALSCALE:GREGORIAN
METHOD:PUBLISH
X-WR-CALNAME:Hunt&#039;s Photo Education
X-ORIGINAL-URL:https://edu.huntsphoto.com
X-WR-CALDESC:Events for Hunt&#039;s Photo Education
REFRESH-INTERVAL;VALUE=DURATION:PT1H
X-Robots-Tag:noindex
X-PUBLISHED-TTL:PT1H
BEGIN:VTIMEZONE
TZID:America/New_York
BEGIN:DAYLIGHT
TZOFFSETFROM:-0500
TZOFFSETTO:-0400
TZNAME:EDT
DTSTART:20250309T070000
END:DAYLIGHT
BEGIN:STANDARD
TZOFFSETFROM:-0400
TZOFFSETTO:-0500
TZNAME:EST
DTSTART:20251102T060000
END:STANDARD
BEGIN:DAYLIGHT
TZOFFSETFROM:-0500
TZOFFSETTO:-0400
TZNAME:EDT
DTSTART:20260308T070000
END:DAYLIGHT
BEGIN:STANDARD
TZOFFSETFROM:-0400
TZOFFSETTO:-0500
TZNAME:EST
DTSTART:20261101T060000
END:STANDARD
BEGIN:DAYLIGHT
TZOFFSETFROM:-0500
TZOFFSETTO:-0400
TZNAME:EDT
DTSTART:20270314T070000
END:DAYLIGHT
BEGIN:STANDARD
TZOFFSETFROM:-0400
TZOFFSETTO:-0500
TZNAME:EST
DTSTART:20271107T060000
END:STANDARD
END:VTIMEZONE
BEGIN:VEVENT
DTSTART;VALUE=DATE:20260610
DTEND;VALUE=DATE:20260615
DTSTAMP:20260425T124424
CREATED:20251111T190423Z
LAST-MODIFIED:20251111T190423Z
UID:10003578-1781049600-1781481599@edu.huntsphoto.com
SUMMARY:Hunt's Photo Adventure: Spring in Solon\, Maine
DESCRIPTION:Spring in the woods of Maine is an exciting time for creativity. Each May\, the woods come alive with new growth that will inspire any photographer. Colorful wildflowers\, blooming trees\, streams\, waterfalls\, the night sky\, and local culture all make for fantastic photo opportunities as we explore\, learn\, and create in and around the rural town of Solon\, Maine. \nSolon\, Maine will host this Adventure: a four-day workshop featuring hands-on instruction during daily field trips\, in-depth classroom discussion\, and professional guidance from Hunt’s Photo’s Director of Photo Adventures Don Toothaker in a rustic\, relaxed atmosphere.\nSolon is a small town at the edge of some of Maine’s premier wilderness areas. Once home to a vibrant farming and logging industry\, Solon is now a quiet village that caters to outdoorsman and eco-tourism year round. Daily field trips will provide everyone with a variety of subjects that showcase the beauty and diversity of the region. \nSkill Sets: All Levels of Photographers are Welcome\nPhysical Activity: Medium. The longest hike we will go on will be 1/2 mile\, round trip\, and there will be some slightly tricky terrain\, but this will be minimal. \nDuring this Workshop We will Cover: \n• Exposure\n• Composition\n• Metering\n• Use of Lenses\n• Use of Light Modifiers\n• Subject Development\n• Creative Thinking\n• Shooting in Low Light\n• Long Exposures\n• Use of Filters (polarizers and ND)\n• Image Processing\, Review and Critiquing \nWhat’s included:\n• Daily excursions in and around locations in Solon\n• In-field instruction at each location\n• Image Discussion and Review \nWhat’s not included:\n• Transportation to and from Solon\, Maine \n• Cost of lodging\n• Cost of meals \nLodging is not included in the cost of this Adventure. We will be staying at the Towne Motel in Skowhegan (207) 474-5151. \nRecommended gear:\nCamera\, memory cards\, batteries\nWide angle\, standard\, and telephoto lenses (If you are looking for a lens to rent\, you can rent it from us at rentals.huntsphoto.com!)\nTripod\nCable release\nPolarizers and Neutral Density filters if you have them \nTravel information\nThis workshop will begin at about 2:30pm on the first day and conclude at about 11am on the final day listed. \nHotel information\nWe will be staying at the Towne Motel in Skowhegan\, Maine- 207-474-5151. Please note: Your rooms are NOT included in the cost of your ticket\, but we have rooms set aside. After booking with us\, make sure to call to put your name on one of those rooms. We are listed as the “Hunt’s Photo Group”. \nPayments\nA deposit of 25% of the total cost of the trip is required upon sign-up to secure a spot. The remaining balance is due 30-days prior to the workshop. We strongly recommend purchasing travel insurance.
URL:https://edu.huntsphoto.com/event/hunts-photo-adventure-spring-in-solon-maine-2026/
CATEGORIES:Hunt's Photo Adventures,Instructor: Don T.
ATTACH;FMTTYPE=image/jpeg:https://edu.huntsphoto.com/wp-content/uploads/SolonSpringXT29420-6.jpg
END:VEVENT
END:VCALENDAR