BEGIN:VCALENDAR
VERSION:2.0
PRODID:-//Hunt&#039;s Photo Education - ECPv6.15.20//NONSGML v1.0//EN
CALSCALE:GREGORIAN
METHOD:PUBLISH
X-WR-CALNAME:Hunt&#039;s Photo Education
X-ORIGINAL-URL:https://edu.huntsphoto.com
X-WR-CALDESC:Events for Hunt&#039;s Photo Education
REFRESH-INTERVAL;VALUE=DURATION:PT1H
X-Robots-Tag:noindex
X-PUBLISHED-TTL:PT1H
BEGIN:VTIMEZONE
TZID:America/New_York
BEGIN:DAYLIGHT
TZOFFSETFROM:-0500
TZOFFSETTO:-0400
TZNAME:EDT
DTSTART:20250309T070000
END:DAYLIGHT
BEGIN:STANDARD
TZOFFSETFROM:-0400
TZOFFSETTO:-0500
TZNAME:EST
DTSTART:20251102T060000
END:STANDARD
BEGIN:DAYLIGHT
TZOFFSETFROM:-0500
TZOFFSETTO:-0400
TZNAME:EDT
DTSTART:20260308T070000
END:DAYLIGHT
BEGIN:STANDARD
TZOFFSETFROM:-0400
TZOFFSETTO:-0500
TZNAME:EST
DTSTART:20261101T060000
END:STANDARD
BEGIN:DAYLIGHT
TZOFFSETFROM:-0500
TZOFFSETTO:-0400
TZNAME:EDT
DTSTART:20270314T070000
END:DAYLIGHT
BEGIN:STANDARD
TZOFFSETFROM:-0400
TZOFFSETTO:-0500
TZNAME:EST
DTSTART:20271107T060000
END:STANDARD
END:VTIMEZONE
BEGIN:VEVENT
DTSTART;TZID=America/New_York:20260422T190000
DTEND;TZID=America/New_York:20260422T210000
DTSTAMP:20260422T162419
CREATED:20260329T042215Z
LAST-MODIFIED:20260329T042215Z
UID:10003871-1776884400-1776891600@edu.huntsphoto.com
SUMMARY:Online: Personal Vision Series- Reflections (Image Review)
DESCRIPTION:
URL:https://edu.huntsphoto.com/event/online-personal-vision-series-reflections-image-review-2/
CATEGORIES:Instructor: Don T.
ATTACH;FMTTYPE=image/jpeg:https://edu.huntsphoto.com/wp-content/uploads/Edited_BW_DT3_0333-6-2.jpg
END:VEVENT
BEGIN:VEVENT
DTSTART;TZID=America/New_York:20260424T090000
DTEND;TZID=America/New_York:20260425T170000
DTSTAMP:20260422T162419
CREATED:20260329T041247Z
LAST-MODIFIED:20260402T044454Z
UID:10003869-1777021200-1777136400@edu.huntsphoto.com
SUMMARY:Hunt's Photo Adventure: Photographing the Wiscasset\, Waterville\, and Farmington Steam Railway
DESCRIPTION:In Alna\, Maine\, a group of highly motivated and skilled volunteers has worked tirelessly to resurrect what was once a fully-functioning Narrow Gauge Railroad that once served parts of coastal and central Maine. Their work is a labor of love. On the campus of the railroad\, 97 Cross Road\, Alna\, Maine 04535\, several buildings are used for construction\, maintenance\, painting\, engineering\, and labor necessary to renovate\, build\, and maintain steam engines\, railroad cars\, track\, and other necessary components. The undertaking is immense\, impressive\, and fascinating.  \nEverything about the location\, the trains\, the many details\, and the people who volunteer their skills to make the WW&F run makes for outstanding photographic opportunities. During the weekend of April 24 and 25\, the railway will be closed to the public as they do “spring cleaning” to prepare the railroad for the season opening. We will have unprecedented access to the campus\, the buildings\, and the volunteers for two full days of photography. The goal is an immersive\, documentary style of storytelling as individuals and as a group. This is a unique and fantastic opportunity. \nAfter the workshop\, anyone that attends (along with anyone that has attended a previous Midcoast/WW&F Adventure) will have the opportunity to sign up for a separate class on developing and creating a book and gallery prints based around the WW&F. This project is geared toward getting attendees more comfortable with the full process\, including culling\, editing\, processing for print\, and developing cohesive projects! (More details to come…) \n  \nGeneral Schedule: \nApril 24 – \nArrive WW&F Railroad at 10 am. \nBring a Lunch\, snacks\, drinks with you. Wiscasset is about 5 miles away if lunch needed. \nConclude afternoon at 5 pm \nDinner locally as a group \nApril 25 – \nArrive WW&F Railroad at 9 am \nBring a lunch \, snacks\, drinks\, with you. Wiscasset is about 5 miles away if lunch needed. \nConclude at 4 pm \nHead for home
URL:https://edu.huntsphoto.com/event/hunts-photo-adventure-photographing-the-wiscasset-waterville-and-farmington-steam-railway-apr-2026/
CATEGORIES:Hunt's Photo Adventures,Instructor: Don T.,Slider
ATTACH;FMTTYPE=image/jpeg:https://edu.huntsphoto.com/wp-content/uploads/Wiscasset-Train-1-1.jpeg
END:VEVENT
END:VCALENDAR