BEGIN:VCALENDAR
VERSION:2.0
PRODID:-//Hunt&#039;s Photo Education - ECPv6.15.20//NONSGML v1.0//EN
CALSCALE:GREGORIAN
METHOD:PUBLISH
X-ORIGINAL-URL:https://edu.huntsphoto.com
X-WR-CALDESC:Events for Hunt&#039;s Photo Education
REFRESH-INTERVAL;VALUE=DURATION:PT1H
X-Robots-Tag:noindex
X-PUBLISHED-TTL:PT1H
BEGIN:VTIMEZONE
TZID:America/New_York
BEGIN:DAYLIGHT
TZOFFSETFROM:-0500
TZOFFSETTO:-0400
TZNAME:EDT
DTSTART:20240310T070000
END:DAYLIGHT
BEGIN:STANDARD
TZOFFSETFROM:-0400
TZOFFSETTO:-0500
TZNAME:EST
DTSTART:20241103T060000
END:STANDARD
BEGIN:DAYLIGHT
TZOFFSETFROM:-0500
TZOFFSETTO:-0400
TZNAME:EDT
DTSTART:20250309T070000
END:DAYLIGHT
BEGIN:STANDARD
TZOFFSETFROM:-0400
TZOFFSETTO:-0500
TZNAME:EST
DTSTART:20251102T060000
END:STANDARD
BEGIN:DAYLIGHT
TZOFFSETFROM:-0500
TZOFFSETTO:-0400
TZNAME:EDT
DTSTART:20260308T070000
END:DAYLIGHT
BEGIN:STANDARD
TZOFFSETFROM:-0400
TZOFFSETTO:-0500
TZNAME:EST
DTSTART:20261101T060000
END:STANDARD
END:VTIMEZONE
BEGIN:VEVENT
DTSTART;TZID=America/New_York:20250910T180000
DTEND;TZID=America/New_York:20250910T200000
DTSTAMP:20260421T084504
CREATED:20250808T151421Z
LAST-MODIFIED:20250813T170553Z
UID:10003352-1757527200-1757534400@edu.huntsphoto.com
SUMMARY:Developing Black & White Film- Hunt's Photo Waltham
DESCRIPTION:Join Hunt’s Photo Education as we discuss all the key elements of loading and developing film\, and get you to develop a roll on your own! In this workshop\, we will show you how to load film into a developing tank\, discuss the elements of the chemistry involved\, and other various aspects. Because of the many variables\, we will only be using one specific type of developer\, but we will discuss the possibilities of other developers available and their advantages. \nPlease note: This class caters to black & white film developing only! We will also have a color film developing class. All film classes can be found here. \nWe will provide tanks\, reels\, chemistry\, and basically anything that you need to develop your film. All you will need to have is a roll of film to develop. (Make sure that roll is black and white and NOT C-41 black and white\, as that cannot be developed in black and white chemistry!) \nWe will also include a free scan of your film after it has been processed! Since your film will be wet at the end of the session\, you will leave it to dry so it can be scanned. The digital scans will be sent directly to your email address. If you would like the negatives to be shipped to another store for pickup\, we can gladly do that!
URL:https://edu.huntsphoto.com/event/developing-black-white-film-hunts-photo-waltham-sept-2025/
CATEGORIES:Analog Film and Alt-Process,Beginner Photography Classes,Editing & Printing Classes,Hunt's Photo, Waltham,In-Person Classes,In-Person Editing & Printing Classes,Instructor: Mike P.,Instructor: Paul N.
ATTACH;FMTTYPE=image/jpeg:https://edu.huntsphoto.com/wp-content/uploads/Film2-12.jpg
END:VEVENT
BEGIN:VEVENT
DTSTART;TZID=America/New_York:20250917T180000
DTEND;TZID=America/New_York:20250917T200000
DTSTAMP:20260421T084504
CREATED:20250808T151259Z
LAST-MODIFIED:20250808T151259Z
UID:10003350-1758132000-1758139200@edu.huntsphoto.com
SUMMARY:Beginner Photography Series- Hunt’s Photo\, Waltham
DESCRIPTION:Do you have a new DSLR that you have no idea how to use?\nHave you had your camera for 6 months\, a year or more and want to take better pictures?\nAre you putting your camera away because you just don’t see the difference between your expensive camera and your smart phone? \nLearn to fully utilize your cameras potentials! Harness your creative power with photography!\nThis is the essential class for anyone looking to take that first giant step into the world of photography! Our patient and entertaining instructors will cover all the basics in this hands-on class\, including changing depth-of-field (controlling what’s in focus in the background)\, stopping or blurring the action in your scene\, and many other basic picture-taking techniques. \nOur two guarantees:\n You will learn a lot!\n You will have a fun time doing it! \nSome character references: \n\n“I was impressed with how well the class was run\, the amount of material covered so thoroughly and how all different camera types were incorporated without it causing issues. I was really impressed with the whole experience. Great instructors!!”\n“Everything was condensed and taught at a basic level which helped with the confusion I had before coming to class. Bottom Line: Great class for confused beginners.”\n“Everything about this class was excellent. The instructors were patient and took time to answer every question thoroughly and we were given ample time to try out the techniques we were being shown. All in all\, a wonderful experience.”\n“Very much liked the instructors- knowledgeable\, entertaining\, encouraging\, not judgmental. Loved the casual nature of the class and opportunity for one-on-one discussions. Excellent for me\, as a novice.”
URL:https://edu.huntsphoto.com/event/beginner-photography-series-hunts-photo-waltham-sept-2025/
CATEGORIES:Beginner Photography Classes,Hunt's Photo, Waltham,In-Person Classes,Instructor: Mike P.
ATTACH;FMTTYPE=image/jpeg:https://edu.huntsphoto.com/wp-content/uploads/Lowell-09459.jpg
END:VEVENT
BEGIN:VEVENT
DTSTART;TZID=America/New_York:20250924T180000
DTEND;TZID=America/New_York:20250924T200000
DTSTAMP:20260421T084504
CREATED:20250808T151309Z
LAST-MODIFIED:20250808T151309Z
UID:10003351-1758736800-1758744000@edu.huntsphoto.com
SUMMARY:Beginner Photography Series- Hunt's Photo\, Waltham (Part 2)
DESCRIPTION:Do you have a new DSLR that you have no idea how to use?\nHave you had your camera for 6 months\, a year or more and want to take better pictures?\nAre you putting your camera away because you just don?t see the difference between your expensive camera and your smart phone?\nLearn to fully utilize your cameras potentials! Harness your creative power with?photography!\nThis is the essential class for anyone looking to take that first giant step into the world of photography! Our patient and entertaining instructors will cover all the basics in this hands-on class\, including changing depth-of-field (controlling what?s in focus in the background)\, stopping or blurring the action in your scene\, and many other basic picture-taking techniques.\nOur two guarantees:\n?You will learn a lot!\n?You will have a fun time doing it!\nSome character references: \n\n?I was impressed with how well the class was run\, the amount of material covered so thoroughly and how all different camera types were incorporated without it causing issues. I was really impressed with the whole experience. Great instructors!!?\n?Everything was condensed and taught at a basic level which helped with the confusion I had before coming to class. Bottom Line: Great class for confused beginners.?\n?Everything about this class was excellent. The instructors were patient and took time to answer every question thoroughly and we were given ample time to try out the techniques we were being shown. All in all\, a wonderful experience.?\n?Very much liked the instructors- knowledgeable\, entertaining\, encouraging\, not judgmental. Loved the casual nature of the class and opportunity for one-on-one discussions. Excellent for me\, as a novice.?
URL:https://edu.huntsphoto.com/event/beginner-photography-series-hunts-photo-waltham-part-2-sept-2025/
CATEGORIES:Hunt's Photo, Waltham,Instructor: Mike P.
ATTACH;FMTTYPE=image/jpeg:https://edu.huntsphoto.com/wp-content/uploads/Lowell-09459.jpg
END:VEVENT
BEGIN:VEVENT
DTSTART;TZID=America/New_York:20250925T180000
DTEND;TZID=America/New_York:20250925T200000
DTSTAMP:20260421T084504
CREATED:20250808T151535Z
LAST-MODIFIED:20250922T031753Z
UID:10003353-1758823200-1758830400@edu.huntsphoto.com
SUMMARY:Developing Color Film- Hunt's Photo Waltham
DESCRIPTION:Join Hunt’s Photo Education as we discuss all the key elements of loading and developing film\, and get you to develop a roll on your own! In this workshop\, we will show you how to load film into a developing tank\, discuss the elements of the chemistry involved\, and other various aspects. Because of the many variables\, we will only be using one specific type of developer\, but we will discuss the possibilities of other developers available and their advantages. \nPlease note: This class caters to color/C-41 type film developing only! We will also have a black and white film developing class. All film classes can be found here. \nWe will provide tanks\, reels\, chemistry\, and basically anything that you need to develop your film. All you will need to have is a roll of film to develop. \nWe will also include a free scan of your film after it has been processed! Since your film will be wet at the end of the session\, you will leave it to dry so it can be scanned. The digital scans will be sent directly to your email address. If you would like the negatives to be shipped to another store for pickup\, we can gladly do that!
URL:https://edu.huntsphoto.com/event/developing-color-film-hunts-photo-waltham-sept-2025/
CATEGORIES:Analog Film and Alt-Process,Beginner Photography Classes,Editing & Printing Classes,Hunt's Photo, Waltham,In-Person Classes,In-Person Editing & Printing Classes,Instructor: Mike P.
ATTACH;FMTTYPE=image/jpeg:https://edu.huntsphoto.com/wp-content/uploads/colorfilm.jpg
END:VEVENT
BEGIN:VEVENT
DTSTART;TZID=America/New_York:20250927T100000
DTEND;TZID=America/New_York:20250927T123000
DTSTAMP:20260421T084504
CREATED:20250808T223851Z
LAST-MODIFIED:20250902T182248Z
UID:10003354-1758967200-1758976200@edu.huntsphoto.com
SUMMARY:Intro to Film- Hunt’s Photo\, Waltham
DESCRIPTION:Film Photography is making a comeback! Come learn what makes film so unique and beautiful and learn how to best use your film camera with instructor Mike Pacheco!\nThis is the essential class for anyone looking to either get into film photography or relearn the basics that they once knew. Discussion points in the class will include: \n\nThe basic settings on film cameras\, including exposure\, aperture and shutter speed\nProperly loading\, unloading\, and storing film\nCurrent films (“film stocks”) and what unique characteristics they hold\nWhat to look for and how to achieve amazing results!\nHands-on shooting demos!\n\nAttendees should all have a working film camera\, along with a working battery. (Hunt’s Photo sells most film camera batteries.) If you are unsure whether your camera is fully functional\, we strongly recommend you contact us at classes@huntsphoto.com and schedule a time that we can check it out! \nWant to learn more about film? Check out some of our Developing Film classes!  (Scanning is included in the cost of that class!) \nGet into the world of film and see what the fuss is all about!
URL:https://edu.huntsphoto.com/event/intro-to-film-hunts-photo-waltham-sept-2025/
CATEGORIES:Analog Film and Alt-Process,Beginner Photography Classes,Hunt's Photo, Waltham,In-Person Classes,Instructor: Mike P.
ATTACH;FMTTYPE=image/jpeg:https://edu.huntsphoto.com/wp-content/uploads/josh-cinestill800t-120.jpg
END:VEVENT
END:VCALENDAR