BEGIN:VCALENDAR
VERSION:2.0
PRODID:-//Hunt&#039;s Photo Education - ECPv6.15.20//NONSGML v1.0//EN
CALSCALE:GREGORIAN
METHOD:PUBLISH
X-WR-CALNAME:Hunt&#039;s Photo Education
X-ORIGINAL-URL:https://edu.huntsphoto.com
X-WR-CALDESC:Events for Hunt&#039;s Photo Education
REFRESH-INTERVAL;VALUE=DURATION:PT1H
X-Robots-Tag:noindex
X-PUBLISHED-TTL:PT1H
BEGIN:VTIMEZONE
TZID:America/New_York
BEGIN:DAYLIGHT
TZOFFSETFROM:-0500
TZOFFSETTO:-0400
TZNAME:EDT
DTSTART:20250309T070000
END:DAYLIGHT
BEGIN:STANDARD
TZOFFSETFROM:-0400
TZOFFSETTO:-0500
TZNAME:EST
DTSTART:20251102T060000
END:STANDARD
BEGIN:DAYLIGHT
TZOFFSETFROM:-0500
TZOFFSETTO:-0400
TZNAME:EDT
DTSTART:20260308T070000
END:DAYLIGHT
BEGIN:STANDARD
TZOFFSETFROM:-0400
TZOFFSETTO:-0500
TZNAME:EST
DTSTART:20261101T060000
END:STANDARD
BEGIN:DAYLIGHT
TZOFFSETFROM:-0500
TZOFFSETTO:-0400
TZNAME:EDT
DTSTART:20270314T070000
END:DAYLIGHT
BEGIN:STANDARD
TZOFFSETFROM:-0400
TZOFFSETTO:-0500
TZNAME:EST
DTSTART:20271107T060000
END:STANDARD
END:VTIMEZONE
BEGIN:VEVENT
DTSTART;TZID=America/New_York:20260425T090000
DTEND;TZID=America/New_York:20260425T140000
DTSTAMP:20260420T163032
CREATED:20260310T044803Z
LAST-MODIFIED:20260310T044940Z
UID:10003840-1777107600-1777125600@edu.huntsphoto.com
SUMMARY:Hunt's Star Wars Cosplay Workshop: Episode VI- Photography of the Jedi (Hunt's Photo\, Melrose)
DESCRIPTION:Fear is the path to the dark side\, but good lighting and a fun photo shoot are the paths to successful images! Join Star Wars fanboy (and photography instructor) Paul Nelson and Hunt’s Photo Lead Educator Emily Hojnowski as we photograph Star Wars cosplayers for this fun and unique photo workshop. \nWe will start with a brief introduction on how to position lights to create mood and a “cinematic look”. We will then dive in to photograph our cosplayers with the emphasis on creating a dramatic look utilizing two sections of our Hunt’s Photo Melrose store. We’ll discuss how to light and what to use\, create shadows and textures\, work with models and more!\nIn this workshop\, we will cover:\n• How to compose the lighting in a scene- in this workshop we will specifically be using LED for simplicity\n• Creating dynamic shadows and effects in your work with lighting\, as well as other light modification\n• How to work with (posing and directing) models to achieve a desired look\n• Developing a creative concept in portraits\, not only using lighting and posing\, but also costumes (and if applicable\, hair and make-up) \nIf weather allows\, we will spend the last hour outside to mix natural and artificial light to create a different look in our portraits. \nYou do not need to own a flash or lighting to attend this workshop. Photographers of all skill levels are encouraged to attend. Join us for this unique and fun workshop!
URL:https://edu.huntsphoto.com/event/hunts-star-wars-cosplay-workshop-episode-vi-photography-of-the-jedi-hunts-photo-melrose-2026/
CATEGORIES:Cosplay,Hunt's Photo Walks,Hunt's Photo, Melrose,In-Person Lighting & Flash Classes,Instructor: Emily H.,Instructor: Paul N.,Slider
ATTACH;FMTTYPE=image/jpeg:https://edu.huntsphoto.com/wp-content/uploads/StarWarsCosplay-.jpg
END:VEVENT
END:VCALENDAR