BEGIN:VCALENDAR
VERSION:2.0
PRODID:-//Hunt&#039;s Photo Education - ECPv6.15.20//NONSGML v1.0//EN
CALSCALE:GREGORIAN
METHOD:PUBLISH
X-WR-CALNAME:Hunt&#039;s Photo Education
X-ORIGINAL-URL:https://edu.huntsphoto.com
X-WR-CALDESC:Events for Hunt&#039;s Photo Education
REFRESH-INTERVAL;VALUE=DURATION:PT1H
X-Robots-Tag:noindex
X-PUBLISHED-TTL:PT1H
BEGIN:VTIMEZONE
TZID:America/New_York
BEGIN:DAYLIGHT
TZOFFSETFROM:-0500
TZOFFSETTO:-0400
TZNAME:EDT
DTSTART:20230312T070000
END:DAYLIGHT
BEGIN:STANDARD
TZOFFSETFROM:-0400
TZOFFSETTO:-0500
TZNAME:EST
DTSTART:20231105T060000
END:STANDARD
BEGIN:DAYLIGHT
TZOFFSETFROM:-0500
TZOFFSETTO:-0400
TZNAME:EDT
DTSTART:20240310T070000
END:DAYLIGHT
BEGIN:STANDARD
TZOFFSETFROM:-0400
TZOFFSETTO:-0500
TZNAME:EST
DTSTART:20241103T060000
END:STANDARD
BEGIN:DAYLIGHT
TZOFFSETFROM:-0500
TZOFFSETTO:-0400
TZNAME:EDT
DTSTART:20250309T070000
END:DAYLIGHT
BEGIN:STANDARD
TZOFFSETFROM:-0400
TZOFFSETTO:-0500
TZNAME:EST
DTSTART:20251102T060000
END:STANDARD
BEGIN:DAYLIGHT
TZOFFSETFROM:-0500
TZOFFSETTO:-0400
TZNAME:EDT
DTSTART:20260308T070000
END:DAYLIGHT
BEGIN:STANDARD
TZOFFSETFROM:-0400
TZOFFSETTO:-0500
TZNAME:EST
DTSTART:20261101T060000
END:STANDARD
END:VTIMEZONE
BEGIN:VEVENT
DTSTART;TZID=America/New_York:20250625T053000
DTEND;TZID=America/New_York:20250625T083000
DTSTAMP:20260420T162932
CREATED:20250527T161512Z
LAST-MODIFIED:20250527T161512Z
UID:10003264-1750829400-1750840200@edu.huntsphoto.com
SUMMARY:Hunt's Photo Walk: Sandy Point Shore Birds
DESCRIPTION:Join Hunt’s Photo Education for a morning photographing at Parker River Wildlife Refuge on Plum Island. On this walk\, we will have numerous shooting opportunities\, particularly a chance to photograph the wildlife\, including newly hatched plovers and terns. Photographers of all skill levels are encouraged to attend!\nPlease note: There will be a good amount of walking on this Photo Walk. Nothing too treacherous\, but make sure to wear comfortable shoes!
URL:https://edu.huntsphoto.com/event/hunts-photo-walk-sandy-point-shore-birds-june-25-2025/
CATEGORIES:Hunt's Photo Walks,Instructor: Don T.,Shore Birds
ATTACH;FMTTYPE=image/jpeg:https://edu.huntsphoto.com/wp-content/uploads/PloverDT-1-3.jpeg
END:VEVENT
BEGIN:VEVENT
DTSTART;TZID=America/New_York:20250624T053000
DTEND;TZID=America/New_York:20250624T083000
DTSTAMP:20260420T162932
CREATED:20250527T161408Z
LAST-MODIFIED:20250621T173009Z
UID:10003263-1750743000-1750753800@edu.huntsphoto.com
SUMMARY:Hunt's Photo Walk: Sandy Point Shore Birds
DESCRIPTION:Join Hunt’s Photo Education for a morning photographing at Parker River Wildlife Refuge on Plum Island. On this walk\, we will have numerous shooting opportunities\, particularly a chance to photograph the wildlife\, including newly hatched plovers and terns. Photographers of all skill levels are encouraged to attend!\nPlease note: There will be a good amount of walking on this Photo Walk. Nothing too treacherous\, but make sure to wear comfortable shoes!
URL:https://edu.huntsphoto.com/event/hunts-photo-walk-sandy-point-shore-birds-june-24-2025/
CATEGORIES:Hunt's Photo Walks,Instructor: Don T.,Shore Birds
ATTACH;FMTTYPE=image/jpeg:https://edu.huntsphoto.com/wp-content/uploads/PloverDT-1-3.jpeg
END:VEVENT
BEGIN:VEVENT
DTSTART;TZID=America/New_York:20240719T053000
DTEND;TZID=America/New_York:20240719T083000
DTSTAMP:20260420T162932
CREATED:20240709T022358Z
LAST-MODIFIED:20240820T170415Z
UID:10002646-1721367000-1721377800@edu.huntsphoto.com
SUMMARY:Hunt's Photo Walk: Sandy Point Shore Birds
DESCRIPTION:Join Hunt’s Photo Education for a morning photographing at Parker River Wildlife Refuge on Plum Island. On this walk\, we will have numerous shooting opportunities\, particularly a chance to photograph the wildlife. Photographers of all skill levels are encouraged to attend!\nPlease note: There will be a good amount of walking on this Photo Walk. Nothing too treacherous\, but make sure to wear comfortable shoes!
URL:https://edu.huntsphoto.com/event/hunts-photo-walk-sandy-point-shore-birds-july-2024/
CATEGORIES:Hunt's Photo Walks,Instructor: Don T.,Shore Birds
ATTACH;FMTTYPE=image/jpeg:https://edu.huntsphoto.com/wp-content/uploads/PloverDT-1-3.jpeg
END:VEVENT
BEGIN:VEVENT
DTSTART;TZID=America/New_York:20240614T060000
DTEND;TZID=America/New_York:20240614T090000
DTSTAMP:20260420T162932
CREATED:20240521T022310Z
LAST-MODIFIED:20240521T195801Z
UID:10002555-1718344800-1718355600@edu.huntsphoto.com
SUMMARY:Hunt's Photo Walk: Sandy Point Shore Birds
DESCRIPTION:Join Hunt’s Photo Education for a morning photographing at Parker River Wildlife Refuge on Plum Island. On this walk\, we will have numerous shooting opportunities\, particularly a chance to photograph the wildlife\, including newly hatched plovers and terns. Photographers of all skill levels are encouraged to attend!\nPlease note: There will be a good amount of walking on this Photo Walk. Nothing too treacherous\, but make sure to wear comfortable shoes!
URL:https://edu.huntsphoto.com/event/hunts-photo-walk-sandy-point-shore-birds-june-14-2024/
CATEGORIES:Hunt's Photo Walks,Instructor: Don T.,Shore Birds
ATTACH;FMTTYPE=image/jpeg:https://edu.huntsphoto.com/wp-content/uploads/PloverDT-1-3.jpeg
END:VEVENT
BEGIN:VEVENT
DTSTART;TZID=America/New_York:20240613T060000
DTEND;TZID=America/New_York:20240613T090000
DTSTAMP:20260420T162932
CREATED:20240521T022132Z
LAST-MODIFIED:20240521T195732Z
UID:10002554-1718258400-1718269200@edu.huntsphoto.com
SUMMARY:Hunt's Photo Walk: Sandy Point Shore Birds
DESCRIPTION:Join Hunt’s Photo Education for a morning photographing at Parker River Wildlife Refuge on Plum Island. On this walk\, we will have numerous shooting opportunities\, particularly a chance to photograph the wildlife\, including newly hatched plovers and terns. Photographers of all skill levels are encouraged to attend!\nPlease note: There will be a good amount of walking on this Photo Walk. Nothing too treacherous\, but make sure to wear comfortable shoes!
URL:https://edu.huntsphoto.com/event/hunts-photo-walk-sandy-point-shore-birds-june-13-2024/
CATEGORIES:Hunt's Photo Walks,Instructor: Don T.,Shore Birds
ATTACH;FMTTYPE=image/jpeg:https://edu.huntsphoto.com/wp-content/uploads/PloverDT-1-3.jpeg
END:VEVENT
BEGIN:VEVENT
DTSTART;TZID=America/New_York:20240531T060000
DTEND;TZID=America/New_York:20240531T090000
DTSTAMP:20260420T162932
CREATED:20240521T022000Z
LAST-MODIFIED:20240521T122554Z
UID:10002553-1717135200-1717146000@edu.huntsphoto.com
SUMMARY:Hunt's Photo Walk: Sandy Point Shore Birds
DESCRIPTION:Join Hunt’s Photo Education for a morning photographing at Parker River Wildlife Refuge on Plum Island. On this walk\, we will have numerous shooting opportunities\, particularly a chance to photograph the wildlife\, including newly hatched plovers and terns. Photographers of all skill levels are encouraged to attend!\nPlease note: There will be a good amount of walking on this Photo Walk. Nothing too treacherous\, but make sure to wear comfortable shoes!
URL:https://edu.huntsphoto.com/event/hunts-photo-walk-sandy-point-shore-birds-may-2024/
CATEGORIES:Hunt's Photo Walks,Instructor: Don T.,Shore Birds
ATTACH;FMTTYPE=image/jpeg:https://edu.huntsphoto.com/wp-content/uploads/PloverDT-1-3.jpeg
END:VEVENT
END:VCALENDAR