BEGIN:VCALENDAR
VERSION:2.0
PRODID:-//Hunt&#039;s Photo Education - ECPv6.15.20//NONSGML v1.0//EN
CALSCALE:GREGORIAN
METHOD:PUBLISH
X-ORIGINAL-URL:https://edu.huntsphoto.com
X-WR-CALDESC:Events for Hunt&#039;s Photo Education
REFRESH-INTERVAL;VALUE=DURATION:PT1H
X-Robots-Tag:noindex
X-PUBLISHED-TTL:PT1H
BEGIN:VTIMEZONE
TZID:America/New_York
BEGIN:DAYLIGHT
TZOFFSETFROM:-0500
TZOFFSETTO:-0400
TZNAME:EDT
DTSTART:20240310T070000
END:DAYLIGHT
BEGIN:STANDARD
TZOFFSETFROM:-0400
TZOFFSETTO:-0500
TZNAME:EST
DTSTART:20241103T060000
END:STANDARD
BEGIN:DAYLIGHT
TZOFFSETFROM:-0500
TZOFFSETTO:-0400
TZNAME:EDT
DTSTART:20250309T070000
END:DAYLIGHT
BEGIN:STANDARD
TZOFFSETFROM:-0400
TZOFFSETTO:-0500
TZNAME:EST
DTSTART:20251102T060000
END:STANDARD
BEGIN:DAYLIGHT
TZOFFSETFROM:-0500
TZOFFSETTO:-0400
TZNAME:EDT
DTSTART:20260308T070000
END:DAYLIGHT
BEGIN:STANDARD
TZOFFSETFROM:-0400
TZOFFSETTO:-0500
TZNAME:EST
DTSTART:20261101T060000
END:STANDARD
END:VTIMEZONE
BEGIN:VEVENT
DTSTART;TZID=America/New_York:20251211T183000
DTEND;TZID=America/New_York:20251211T203000
DTSTAMP:20260421T124736
CREATED:20250923T162937Z
LAST-MODIFIED:20251027T200835Z
UID:10003468-1765477800-1765485000@edu.huntsphoto.com
SUMMARY:Online: Lightroom CPR! Creative Photo Resuscitation!
DESCRIPTION:Did you take a photograph that’s too dark? Is the color way off? Did someone leave a pile of junk in the background of your otherwise pristine photo?\nJoin Hunt’s Photo Educator Ray Levesque as he shows how to make the best out of your bad photos in Lightroom! We will show tips and tricks on how to recover lost treasures\, touch up using spot removal and layer masks\, beautify using noise reduction\, image sharpening and grain\, and make the best with what you have!\nDisclaimer– there are always limits to what you can do with bad photos and not every bad photo can become a work of art\, and we will discuss what can and cannot be saved in the post-processing world! \nWe will be demoing these techniques on-screen during the class. This class will be recorded\, so we recommend that you watch the process and take notes during this time. \nRegistering and what is needed\nAfter you register for this class\, you will receive a confirmation email that will include information about how to access the online class\, including an online ID code that you will need to get into the class. Make sure to save this information. We will also send a reminder email about 48 hours prior to the class time with that same information. \nLayout of the class\nThe class will begin promptly at the time listed. The majority of the class–roughly 1 hour– will be a presentation on the topic\, followed by a short Q&A. During the class\, you are welcome to type in questions in the Chat box if you have specific questions as they are asked. We will do our best to answer those questions\, but if not\, feel free to ask them at the end. \n“You Are Being Recorded” (And Other Note Related Items)\nWe will be recording this class! The video will be available for download about 24-hours after the class for all attendees\, so don’t worry about taking unending notes. We will send this link attendees to download and rewatch at any time. In addition to this\, we will generally send out a PDF of the presentation (when applicable) and handouts on the topic. If handouts and PDFs are included\, we will send it out with the link for the video. \nCan’t attend the class? \nIf you can’t attend the class but still want to download the video\, no problem: Just sign up for the class! You don’t need to attend and we will send the video and PDF link the next day!
URL:https://edu.huntsphoto.com/event/online-lightroom-cpr-creative-photo-resuscitation-oct-2025/
CATEGORIES:Editing & Printing Classes,Instructor: Ray L.,Lightroom,Online Courses,Slider
ATTACH;FMTTYPE=image/jpeg:https://edu.huntsphoto.com/wp-content/uploads/lightroom-advanced.jpeg
END:VEVENT
END:VCALENDAR