BEGIN:VCALENDAR
VERSION:2.0
PRODID:-//Hunt&#039;s Photo Education - ECPv6.15.20//NONSGML v1.0//EN
CALSCALE:GREGORIAN
METHOD:PUBLISH
X-WR-CALNAME:Hunt&#039;s Photo Education
X-ORIGINAL-URL:https://edu.huntsphoto.com
X-WR-CALDESC:Events for Hunt&#039;s Photo Education
REFRESH-INTERVAL;VALUE=DURATION:PT1H
X-Robots-Tag:noindex
X-PUBLISHED-TTL:PT1H
BEGIN:VTIMEZONE
TZID:America/New_York
BEGIN:DAYLIGHT
TZOFFSETFROM:-0500
TZOFFSETTO:-0400
TZNAME:EDT
DTSTART:20250309T070000
END:DAYLIGHT
BEGIN:STANDARD
TZOFFSETFROM:-0400
TZOFFSETTO:-0500
TZNAME:EST
DTSTART:20251102T060000
END:STANDARD
BEGIN:DAYLIGHT
TZOFFSETFROM:-0500
TZOFFSETTO:-0400
TZNAME:EDT
DTSTART:20260308T070000
END:DAYLIGHT
BEGIN:STANDARD
TZOFFSETFROM:-0400
TZOFFSETTO:-0500
TZNAME:EST
DTSTART:20261101T060000
END:STANDARD
BEGIN:DAYLIGHT
TZOFFSETFROM:-0500
TZOFFSETTO:-0400
TZNAME:EDT
DTSTART:20270314T070000
END:DAYLIGHT
BEGIN:STANDARD
TZOFFSETFROM:-0400
TZOFFSETTO:-0500
TZNAME:EST
DTSTART:20271107T060000
END:STANDARD
END:VTIMEZONE
BEGIN:VEVENT
DTSTART;TZID=America/New_York:20260304T180000
DTEND;TZID=America/New_York:20260304T200000
DTSTAMP:20260423T073308
CREATED:20260114T210053Z
LAST-MODIFIED:20260218T144320Z
UID:10003712-1772647200-1772654400@edu.huntsphoto.com
SUMMARY:Editing in Adobe Lightroom Classic- Hunt's Photo\, Melrose
DESCRIPTION:This is a great opportunity to build up your editing skills in Lightroom!\nAdobe Lightroom is the choice program for professionals and amateurs\, with ever-growing capabilities and options. However\, there are many levels to understanding in the program. What do we do to make basic changes? Once we learn those changes\, how can we “step it up” and figure out what to we’re supposed to do? How do we make images pop? And finally\, how do we put it all together and making finishing touches to our images.\nJoin Hunt’s Photo Education for a course that helps answer many of these questions. Often\, Lightroom users struggle with the inability to determine what changes are “good” or “correct”. While those terms are subjective\, we will help you along in the editing process to see how to make determinations along the way.\nThis is a Multi-Session Class! In Week 1\, we’ll start with the basic adjustments using Basic Development controls. More than anything\, we will be emphasizing global changes and understanding what can be done with an image in Lightroom. We’ll then dive into Color\, Curves\, Contrast & Clarity & Texture. These changes will help make your images pop. In Week 2\, we’ll discuss advanced editing\, including local adjustments\, such as radial and graduated filters\, and how to “finish” the image- sharpening\, noise reduction\, and more.\nIn-between each session\, we will give assignments to help you become more proficient and grasp the material! This class is strongly recommended for anyone looking to further their skills with Lightroom! \n \nAn important note about this course! There are now a few different versions of Adobe Lightroom right now.This course is specifically on Adobe Lightroom Classic. The other version of Lightroom\, commonly known as “Adobe Lightroom CC” (yes\, we understand you may be confused by this) is a more mobile and cloud-based program. The look and feel of the program is completely different– This course is specifically on Adobe Lightroom Classic. (See graphic on the right.) If you are unsure\, feel free to email us at classes@huntsphoto.com. Important: If you are taking this course\, make sure to download/update the program in advance\, as you will not be able to download the program at the store. Older versions\, such as Lightroom 5 or 6\, are also acceptable\, though not all functions will be available. \n \nCurious which Adobe plan to get? We recommend the 20GB Photography Plan\, detailed in the screenshot on the left. You can find it here!
URL:https://edu.huntsphoto.com/event/editing-in-adobe-lightroom-classic-hunts-photo-melrose-feb-2026/
CATEGORIES:Editing & Printing Classes,Hunt's Photo, Melrose,In-Person Classes,In-Person Editing & Printing Classes,In-Person Lightroom Classes,Instructor: Rebecca L.,Lightroom,Slider
ATTACH;FMTTYPE=image/jpeg:https://edu.huntsphoto.com/wp-content/uploads/Lightroom-1357-91.jpg
END:VEVENT
BEGIN:VEVENT
DTSTART;TZID=America/New_York:20260326T190000
DTEND;TZID=America/New_York:20260326T203000
DTSTAMP:20260423T073308
CREATED:20260305T055715Z
LAST-MODIFIED:20260327T020928Z
UID:10003810-1774551600-1774557000@edu.huntsphoto.com
SUMMARY:Online: Notes from the Field: The South of France with Jeff Swinger
DESCRIPTION:Join Hunt’s Photo guest instructor Jeff Swinger as he discusses his experiences photographing the Wild Horses in the South of France! In 2026\, Jeff will be leading his second workshop to Provence in the South of France for Hunt’s Photo Adventures\, photographing black bulls\, pink flamingos\, and the White Horses of the Camargue. In this free webinar\, Jeff will discuss the subject matter\, the experience of photographing the environment\, and more. This webinar is FREE and open to all! \nPlease note: If you can’t attend live\, no problem! Just register and we will send you the recording the following morning!
URL:https://edu.huntsphoto.com/event/online-notes-from-the-field-the-south-of-france-with-jeff-swinger-mar-2026/
CATEGORIES:Instructor: Jeff S.,Online Courses,Slider
ATTACH;FMTTYPE=image/jpeg:https://edu.huntsphoto.com/wp-content/uploads/2025-South-of-France0021.jpg
END:VEVENT
BEGIN:VEVENT
DTSTART;TZID=America/New_York:20260331T190000
DTEND;TZID=America/New_York:20260331T203000
DTSTAMP:20260423T073308
CREATED:20260225T071710Z
LAST-MODIFIED:20260401T114017Z
UID:10003785-1774983600-1774989000@edu.huntsphoto.com
SUMMARY:Online: Special Guest Series- The Fluid Frame: Capturing the Soul of Water with Sapna Reddy
DESCRIPTION:This presentation is dedicated to understanding the key elements to creating powerful visual stories where Water is the protagonist. The art and science of conveying stillness\, motion\, power\, ethereal mood\, and impact will be explored in a step by step fashion with examples for each. Whether you like to shoot thundering waterfalls\, gently flowing streams\, serene reflections or vast seascapes this is a learning opportunity to create compelling images with every press of your shutter button. \n  \nAbout Sapna Reddy: \n\n\nAs a world-renowned photographer and practicing physician\, Sapna Reddy occupies a unique intersection of art and science. Her work is characterized by a “Zen-like” focus on the therapeutic power of nature\, aiming to heal the mind just as her medical practice seeks to cure the body.\n\n\nHer portfolio has earned international acclaim and features on elite platforms\, including:\n\n\nGlobal Recognition: Award-winning work showcased by National Geographic\, Lonely Planet\, Sony\, Adobe\, and Flickr.\n\n\nElite Partnerships: A Sony Alpha Ambassador and collaborator with Adobe and B&H\, Sapna helps shape the future of photographic education and product development.\n\n\nHealing Arts: Specializing in corporate fine art\, her images create “ambiance of healing” for major medical centers and are sold through galleries in over 80 countries worldwide.\n\n\nGlobal Workshops: Guided by her passion for teaching\, she leads small-group adventure workshops designed to help photographers find their unique artistic voice while minimizing environmental impact.\n\n\nSapna is also a prolific writer and sought-after speaker\, sharing her philosophy on “the art of seeing” at major conferences and in publications like Outdoor Photographer. Whether kayaking the remote areas of the Arctic ocean or exploring the subterranean caves of Vietnam\, her mission remains the same: to capture the profound beauty of our planet and share its restorative power with the world.\n\n\n\n\nRegistering and what is needed\nAfter you register for this class\, you will receive a confirmation email that will include information about how to access the online class\, including an online ID code that you will need to get into the class. Make sure to save this information. We will also send a reminder email about 24 hours prior to the class time with that same information. \nLayout of the class\nThe class will begin promptly at the time listed. The majority of the class–90 minutes to 2 hours– will be a presentation on the topic\, followed by a short Q&A. During the class\, you are welcome to type in questions in the Chat box if you have specific questions as they are asked. We will do our best to answer those questions\, but if not\, feel free to ask them at the end. \n“You Are Being Recorded” (And Other Note Related Items)\nWe will be recording this class! The video will be available for download about 24-hours after the class for all attendees\, so don’t worry about taking unending notes. We will send this link attendees to download and rewatch at any time. In addition to this\, we will generally send out a PDF of the presentation (when applicable) and handouts on the topic. If handouts and PDFs are included\, we will send it out with the link for the video. \nCan’t attend the class? \nIf you can’t attend the class but still want to download the video\, no problem: Just sign up for the class! You don’t need to attend and we will send the video link the next day! \nWant to get this class after it’s been run?– We have an online store where you can purchase all our previously run classes here: https://edu.huntsphoto.com/buy-previous-courses/ \nNo online classes should be shared and cannot be shared in a public environment\, including with camera clubs\nThe online content is the copyright of Hunt’s Photo Education and/or the Instructor. Please support our education team and instructors by not sharing this material! We appreciate your support\, and it’s thanks to that support that we are able to continue producing content!
URL:https://edu.huntsphoto.com/event/online-special-guest-series-the-fluid-frame-capturing-the-soul-of-water-with-sapna-reddy-mar-2026/
CATEGORIES:Instructor: Emily H.,Online Courses,Slider,Special Guest Series
ATTACH;FMTTYPE=image/jpeg:https://edu.huntsphoto.com/wp-content/uploads/SapnaReddyPhoto-Sep-26-2024-18-02-01.jpg
END:VEVENT
END:VCALENDAR