BEGIN:VCALENDAR
VERSION:2.0
PRODID:-//Hunt&#039;s Photo Education - ECPv6.15.20//NONSGML v1.0//EN
CALSCALE:GREGORIAN
METHOD:PUBLISH
X-ORIGINAL-URL:https://edu.huntsphoto.com
X-WR-CALDESC:Events for Hunt&#039;s Photo Education
REFRESH-INTERVAL;VALUE=DURATION:PT1H
X-Robots-Tag:noindex
X-PUBLISHED-TTL:PT1H
BEGIN:VTIMEZONE
TZID:America/New_York
BEGIN:DAYLIGHT
TZOFFSETFROM:-0500
TZOFFSETTO:-0400
TZNAME:EDT
DTSTART:20250309T070000
END:DAYLIGHT
BEGIN:STANDARD
TZOFFSETFROM:-0400
TZOFFSETTO:-0500
TZNAME:EST
DTSTART:20251102T060000
END:STANDARD
BEGIN:DAYLIGHT
TZOFFSETFROM:-0500
TZOFFSETTO:-0400
TZNAME:EDT
DTSTART:20260308T070000
END:DAYLIGHT
BEGIN:STANDARD
TZOFFSETFROM:-0400
TZOFFSETTO:-0500
TZNAME:EST
DTSTART:20261101T060000
END:STANDARD
BEGIN:DAYLIGHT
TZOFFSETFROM:-0500
TZOFFSETTO:-0400
TZNAME:EDT
DTSTART:20270314T070000
END:DAYLIGHT
BEGIN:STANDARD
TZOFFSETFROM:-0400
TZOFFSETTO:-0500
TZNAME:EST
DTSTART:20271107T060000
END:STANDARD
END:VTIMEZONE
BEGIN:VEVENT
DTSTART;VALUE=DATE:20261002
DTEND;VALUE=DATE:20261014
DTSTAMP:20260420T194908
CREATED:20251007T032950Z
LAST-MODIFIED:20260117T171754Z
UID:10003499-1790899200-1791935999@edu.huntsphoto.com
SUMMARY:Hunt's Photo Adventure: Provence\, South of France- White Horses of the Camargue\, Wine & Heritage
DESCRIPTION:Workshop Description \nJoin us for an unforgettable twelve-day photography workshop in the stunning landscapes of southern France\, led by photographer and instructor Jeff Swinger and local expert guide Patrice Aguilar! Hosted by Hunt’s Photo & Video\, this specialized adventure will immerse you in the beauty and heritage of the region as you capture the iconic White Horses of the Camargue\, the striking Black Bulls—guardians of the marshes with centuries of cultural significance—and the elegant Pink Flamingos. You’ll explore charming historic villages\, photographing their unique architecture\, vineyards\, and rich traditions\, while honing your skills in both action and landscape photography. With expert guidance from Jeff and insights from Patrice\, a true local\, this workshop is perfect for photographers of all skill levels looking to enhance their craft and create a stunning portfolio. Don’t miss this opportunity to experience the wild beauty\, wine\, and timeless heritage of southern France through your lens! \n  \nFull Workshop Itinerary \nOctober 2 – October 13\, 2026  \nDay 1 – Friday\, October 2 – Arrival & Group Pickup  \n– Arrive at Marseille Provence Airport (MRS)  \n– Group pickup and transfer to hotel in Aix-en-Provence  \n– Time to rest or enjoy a short stroll through the old town  \nDay 2 – Saturday\, October 3 – Aix-en-Provence Exploration  \n– Morning visit to Aix-en-Provence market and town center for street & detail photography  \n– Midday break at hotel (rest\, review images\, optional editing session)  \n– Afternoon photo walk through Aix’s Old Town (Cours Mirabeau\, fountains\, charming streets)  \nDay 3 – Sunday\, October 4 – Transfer to Camargue  \n– Check out of Aix hotel  \n– Drive to Camargue  \n– LPhotography in Saintes-Maries-de-la-Mer  \n– Check in at Hotel Les Rizières  \n– Evening photo session at Bird Sanctuary  \nDay 4 – Monday\, October 5 – Camargue Horses  \n– Morning photo session with Camargue Horses  \n– Lunch on your own in Aigues-Mortes  \n– Evening photo session with Camargue Horses  \nDay 5 – Tuesday\, October 6 – Camargue Horses & Arles  \n– Morning photo session with Camargue Horses  \n– Lunch on your own in Arles  \n– Evening photo session with Camargue Horses \nDay 6 – Wednesday\, October 7 – Camargue Horses & Les Baux de Provence  \n– Morning photo session with Camargue Horses  \n– Lunch on your own in Les Baux de Provence  \n– Visit Les Carrières de Lumières (immersive art show in a limestone quarry)  \n– Evening photo session with Black Bulls  \nDay 7 – Thursday\, October 8 – Camargue Horses & Bird Sanctuary  \n– Morning photo session with Camargue Horses  \n– Lunch on your own in Saintes-Maries-de-la-Mer  \n– Evening photo session at Bird Sanctuary  \nDay 8 – Friday\, October 9 – Transfer to Provence / Pont du Gard  \n– Morning photo session with Camargue Horses  \n– Check out of Hotel Les Rizières  \n– Drive to Provence and check in at hotel  \n– Evening photo session at Pont du Gard (Roman Aqueduct)  \nDay 9 – Saturday\, October 10 – Colorado Provençal\, Roussillon & Châteauneuf-du-Pape  \n– Morning photo session at Colorado Provençal (ochre landscapes)  \n– Lunch on your own in Roussillon  \n– Afternoon wine tasting in Châteauneuf-du-Pape  \nDay 10 – Sunday\, October 11 – Markets & Wine  \n– Morning market day in Isle-sur-la-Sorgue  \n– Lunch on your own in Isle-sur-la-Sorgue  \n– Afternoon wine tasting and Dinner in Gigondas  \n– Evening Truffle Experience \nDay 11 – Monday\, October 12 – Gordes & Mont Ventoux  \n– Morning market day in Gordes  \n– Lunch on your own in Gordes  \n– Afternoon picnic & scenic shoot on Mont Ventoux  \nDay 12 – Tuesday\, October 13 – Departure  \n– Check out of hotel  \n– Transfer to Marseille Provence Airport for flights home  \n  \nWhat’s included in the workshop: \n\nLocal Transportation and airport transfers \n\n\nHotels for each night of the workshop \n\n\n8 sessions with Camargue horses / black bulls \n\n\nEntrance to the Bird Park \n\n\nTwo Wine Tastings \n\n\nTruffle Experience  \n\n\n11 nights in a 3* hotel (shared basis) \n\n\n11 breakfasts \n\n\n\nWaders rental service \n\nWhat’s not included in the workshop: \n\nInternational flights \n\n\n\nLunches \nDinners\n\n\nAlcoholic beverages \n\n\nPersonal expenses \n\n\nTips for local guide \n\n\nPhone calls or data plans \n\n• ***Travel insurance (HIGHLY recommended for all travelers)*** Please note that the deposit is non-refundable\, but travel insurance can cover this. We strongly encourage it! \n  \nSkill Sets: All Levels of Photographers are Welcome \nDuring this workshop\, you will receive hands-on instruction and practice in a variety of photography techniques\, including:  \n\nTracking Focus – capturing moving subjects like horses and birds with precision \n\n\nExposure – managing light in diverse environments\, from bright marshes to dim village streets \n\n\nComposition – creating visually compelling and balanced images \n\n\nMetering – using your camera’s metering systems to handle tricky lighting conditions \n\n\nUse of Lenses – selecting and maximizing wide-angle\, telephoto\, and specialty lenses \n\n\nSubject Development – learning to observe\, anticipate\, and capture your subjects’ best moments \n\n\nCreative Thinking – experimenting with angles\, perspective\, and storytelling techniques \n\n\nShooting in Low Light – mastering dawn\, dusk\, and indoor lighting scenarios \n\nThese skills are designed to help photographers of all levels enhance technical ability\, develop creative vision\, and capture stunning imagery throughout the workshop.  \nPhysical Activity:Low. Minimal hiking\, but photographing for long periods of time outside in the cold. We will encounter muddy conditions in the marshes and wet-sandy conditions on the beach. Please see note below about weather. \nWeather and Weather Gear  \nA Note About Weather (and weather gear)  \nWhat to Expect  \nDuring October 2–13\, the average daily temperatures in Provence and the Camargue typically range from the 50s–60s °F (10s–20s °C). Expect:  \n\nPleasant afternoons are perfect for exploring and photographing. \n\n\nCooler mornings and evenings\, especially near the marshes and open landscapes. \n\n\nMild winds in some areas\, particularly around coastal and marsh regions. \n\n\nStunning natural light — October often brings soft\, golden light ideal for photography. \n\n\nSeasonal colors in vineyards\, historic villages\, and wildlife habitats. \n\n  \nRecommended gear: \nTo make the most of your workshop and stay comfortable\, consider bringing:  \nClothing:  \n\nLayered clothing for fluctuating temperatures (light sweaters\, long sleeves\, jackets). \n\n\nA windproof and waterproof jacket for cooler mornings and potential light rain. \n\n\nComfortable walking shoes or hiking boots for village streets\, marshes\, and uneven terrain. \n\n\nHat and sunglasses for sun protection. \n\n\nOptional: lightweight gloves and scarf for crisp mornings. \n\nPhotography Gear:  \n\nCamera(s) with multiple lenses (wide-angle for landscapes\, telephoto for wildlife). \n\n\nTripod for low-light and sunset/sunrise shots. (Optional) \n\n\nExtra batteries and memory cards. \n\n\nLens cleaning kit (dust and marsh conditions). \n\n\nA camera bag comfortable for day excursions. \n\n\nRoller camera bags or backpacks for travel are fine for this trip. \n\nLaptops & Image Management  \n\nWhile laptops are optional\, many participants find them helpful for: \n\n\nReviewing images daily to check composition\, exposure\, and focus. \n\n\nParticipating in critiques with the instructor and peers. \n\n\nBacking up and organizing files during the workshop to ensure nothing is lost. \n\nTips  \n\nBring a lightweight laptop if possible\, to avoid heavy loads while traveling. \n\n\nInclude your charging cables and any necessary adapters for France (European plug type C/E/F). \n\n\nConsider using portable external drives or cloud storage for additional backup. \n\n\nIf you choose not to bring a laptop\, a memory card organizer and backup cards will suffice for image storage. \n\n  \nOther Essentials:  \n\nReusable water bottle. \n\n\nNotebook or journal for notes and inspiration. \n\n\nSmall backpack or daypack for daily outings. \n\n  \nLuggage:   \n\nSoft-sided luggage with wheels is strongly recommended. These are easier to fit in the vans and allow flexibility for tight spaces. \n\n\nDuffel bags are good as well. \n\n\nConsider stair access at hotels or historic accommodations — if you anticipate needing to carry your luggage up a flight of stairs\, pack only what you can comfortably manage. (We will be there to help\, but please consider) \n\nTravel information\nYou need to fly into Marseille Provence Airport (MRS). There will be a bulk pickup of attendees at the airport. If you choose to arrive earlier or stay later\, you will need to make your own arrangements for transportation into Provence. \nHotel information\nAll hotels have been secured for you during the workshop. Due to the sensitive nature of this workshop and the difficulty of securing accommodations\, we will not be detailing our itinerary or accommodations to anyone who is not attending this workshop.  All accommodations in Camargue and Provence are 3-star hotels. \nPayments\nA non-refundable reservation fee of $2000 (25%) is required upon sign-up to secure a spot. The total cost of the trip is $7995 per person for single occupancy.  Please note that the reservation fee and payments on this workshop are non-refundable. Please make sure to purchase insurance in case you need to cancel your trip. (You can purchase trip insurance from numerous insurance companies– Allianz\, AAA\, and more.)\nThe remaining balance is due 120-days (4 months) prior to the workshop and can be made on this page. \nSharing a Room? \nIf you are signing up for two tickets and sharing a room\, you can receive $1\,000 off the cost of each ticket. Your discount will be applied on the final payment.
URL:https://edu.huntsphoto.com/event/hunts-photo-adventure-provence-white-horses-of-the-camargue-wine-heritage-2026/
CATEGORIES:Hunt's Photo Adventures,Instructor: Jeff S.,Slider
ATTACH;FMTTYPE=image/jpeg:https://edu.huntsphoto.com/wp-content/uploads/2025-South-of-France0280.jpg
END:VEVENT
END:VCALENDAR